BEGIN:VCALENDAR
VERSION:2.0
PRODID:-//Medact - ECPv6.6.3//NONSGML v1.0//EN
CALSCALE:GREGORIAN
METHOD:PUBLISH
X-WR-CALNAME:Medact
X-ORIGINAL-URL:https://www.medact.org
X-WR-CALDESC:Events for Medact
REFRESH-INTERVAL;VALUE=DURATION:PT1H
X-Robots-Tag:noindex
X-PUBLISHED-TTL:PT1H
BEGIN:VTIMEZONE
TZID:Europe/London
BEGIN:DAYLIGHT
TZOFFSETFROM:+0000
TZOFFSETTO:+0100
TZNAME:BST
DTSTART:20250330T010000
END:DAYLIGHT
BEGIN:STANDARD
TZOFFSETFROM:+0100
TZOFFSETTO:+0000
TZNAME:GMT
DTSTART:20251026T010000
END:STANDARD
END:VTIMEZONE
BEGIN:VEVENT
DTSTART;TZID=Europe/London:20250807T193000
DTEND;TZID=Europe/London:20250807T203000
DTSTAMP:20260421T010810
CREATED:20250522T142853Z
LAST-MODIFIED:20250522T142856Z
UID:35806-1754595000-1754598600@www.medact.org
SUMMARY:Medact Leeds group meeting: August
DESCRIPTION:The Leeds group come together monthly for meetings\, mostly online and sometimes in person! Medact Leeds are organising locally for climate and health justice as part of the Health for a Green New Deal network\, and also taking action to end the hostile environment\, campaigning for Patients Not Passports. All are welcome. Please sign up to the mailing list to join the group.
URL:https://www.medact.org/event/leeds-aug2025/
CATEGORIES:Group,Meetings
ATTACH;FMTTYPE=image/png:https://www.medact.org/app/uploads/2021/03/2-1.png
END:VEVENT
BEGIN:VEVENT
DTSTART;TZID=Europe/London:20250813T200000
DTEND;TZID=Europe/London:20250813T210000
DTSTAMP:20260421T010810
CREATED:20250522T142101Z
LAST-MODIFIED:20250522T142157Z
UID:35787-1755115200-1755118800@www.medact.org
SUMMARY:Medact North East Meeting: August
DESCRIPTION:Medact North East are a collective of health workers and students based across the North East\, from Northumberland to Newcastle to Middlesbrough! \n\n\n\nCurrently we are working on a climate justice campaign\, supporting a grassroots group to win the fight against a large waste incinerator on Teesside\, which would pollute the air of the local community as well as accelerating the climate crisis.  \n\n\n\nWe are also exploring campaigns around migrant health justice issues through our new ‘Migrant Health’ group.  This includes supporting No to Hassockfield which is fighting to shut down a women’s detention centre in County Durham.     \n\n\n\nThe group meets monthly. Each meeting is facilitated by a different person and they welcome new members! The time is used to discuss current campaigns and anything else relevant. For more information or to join a meeting in-person\, get in touch at northeast@medact.org or subscribe below.
URL:https://www.medact.org/event/medact-north-east-meeting-aug2025/
ATTACH;FMTTYPE=image/png:https://stat.medact.org/wp-uploads/2024/05/North-East-cop26-protest.png
END:VEVENT
BEGIN:VEVENT
DTSTART;TZID=Europe/London:20250820T180000
DTEND;TZID=Europe/London:20250820T193000
DTSTAMP:20260421T010810
CREATED:20250618T095215Z
LAST-MODIFIED:20250722T085952Z
UID:35968-1755712800-1755718200@www.medact.org
SUMMARY:Nuclear Weapons Group - August Meeting
DESCRIPTION:Medact’s Nuclear Weapons Group represents the longest standing aspect of Medact’s work towards nuclear abolition\, and to address war\, armed violence and conflict as global threats to health. \n\n\n\nWe meet to provide an update on our ongoing campaigning work\, and discuss the current global political landscape as related to nuclear weapons\, militarisation and disarmament. Register below to receive the meeting link! For more info or with questions\, email Sarah: sarahlasoye@medact.org
URL:https://www.medact.org/event/nuclear-weapons-group-august/
CATEGORIES:Group,Meetings,Online
ATTACH;FMTTYPE=image/png:https://stat.medact.org/wp-uploads/2022/10/Nuclear-Weapons-Group.png
END:VEVENT
BEGIN:VEVENT
DTSTART;TZID=Europe/London:20250821T183000
DTEND;TZID=Europe/London:20250821T203000
DTSTAMP:20260421T010810
CREATED:20250522T143155Z
LAST-MODIFIED:20250722T085953Z
UID:35812-1755801000-1755808200@www.medact.org
SUMMARY:Medact London group meeting: August
DESCRIPTION:Across London\, health workers are organising and campaigning for better access to secure\, quality\, affordable and sustainable housing. This includes working alongside local groups to support local campaigns\, as well as demanding policy change on a national level. All are welcome. \n\n\n\nIf you would like to get involved you can contact Jordi (jordilopezbotey@medact.org) or Cal (calumbarnes@medact.org) \n\n\n\nIf you have any questions don’t hesitate to get in touch\, you can also sign up to the Medact London email list using the box below for updates on our work. \n\n\n\nThe meeting is hybrid\, on Google Meets and in-person at our office in Bethnal Green: \n\n\n\nMedact\, Room 104\, Pelican House144 Cambridge Heath RdLondon\, E1 5QJ
URL:https://www.medact.org/event/medact-london-aug2025/
LOCATION:Medact\, Pelican House\, 144 Cambridge Heath Road\, London\, E1 5QJ
CATEGORIES:Group,Hybrid,Meetings
ATTACH;FMTTYPE=image/png:https://www.medact.org/app/uploads/2016/05/Medact-London.png
END:VEVENT
END:VCALENDAR