BEGIN:VCALENDAR
VERSION:2.0
PRODID:-//Medact - ECPv6.6.3//NONSGML v1.0//EN
CALSCALE:GREGORIAN
METHOD:PUBLISH
X-ORIGINAL-URL:https://www.medact.org
X-WR-CALDESC:Events for Medact
REFRESH-INTERVAL;VALUE=DURATION:PT1H
X-Robots-Tag:noindex
X-PUBLISHED-TTL:PT1H
BEGIN:VTIMEZONE
TZID:Europe/London
BEGIN:DAYLIGHT
TZOFFSETFROM:+0000
TZOFFSETTO:+0100
TZNAME:BST
DTSTART:20250330T010000
END:DAYLIGHT
BEGIN:STANDARD
TZOFFSETFROM:+0100
TZOFFSETTO:+0000
TZNAME:GMT
DTSTART:20251026T010000
END:STANDARD
END:VTIMEZONE
BEGIN:VEVENT
DTSTART;TZID=Europe/London:20250702T190000
DTEND;TZID=Europe/London:20250702T203000
DTSTAMP:20260424T103858
CREATED:20250530T115618Z
LAST-MODIFIED:20250530T120141Z
UID:35863-1751482800-1751488200@www.medact.org
SUMMARY:Medact's Strategy – Online Call: Membership Culture 1
DESCRIPTION:As part of the movement for health justice\, your voice is vital in shaping the future of Medact’s work. \n\n\n\nWe’re developing our strategy for 2025–2030 together\, and it’s crucial that it reflects the insights of those driving change on the ground. This is your opportunity to influence its direction! \n\n\n\nJoin the online calls\n\n\n\nWe are holding four two online strategy calls: two themes\, each with two dates. Sign up below! (Please only sign up to one of each theme.) \n\n\n\nMembership Culture at Medact: How can we make Medact a political home for healthcare workers?These sessions provide an opportunity for members to reflect on their experiences within Medact and offer constructive input on how to develop an inclusive and supportive organisational culture that aligns with our mission.
URL:https://www.medact.org/event/medacts-strategy-call-membership-culture-1/
CATEGORIES:Online
ATTACH;FMTTYPE=image/png:https://stat.medact.org/wp-uploads/2025/05/strategy-call-3.png
END:VEVENT
BEGIN:VEVENT
DTSTART;TZID=Europe/London:20250703T190000
DTEND;TZID=Europe/London:20250703T203000
DTSTAMP:20260424T103858
CREATED:20250530T115627Z
LAST-MODIFIED:20250530T120139Z
UID:35865-1751569200-1751574600@www.medact.org
SUMMARY:Medact's Strategy – Online Call: Membership Culture 2
DESCRIPTION:As part of the movement for health justice\, your voice is vital in shaping the future of Medact’s work. \n\n\n\nWe’re developing our strategy for 2025–2030 together\, and it’s crucial that it reflects the insights of those driving change on the ground. This is your opportunity to influence its direction! \n\n\n\nJoin the online calls\n\n\n\nWe are holding four two online strategy calls: two themes\, each with two dates. Sign up below! (Please only sign up to one of each theme.) \n\n\n\nMembership Culture at Medact: How can we make Medact a political home for healthcare workers?These sessions provide an opportunity for members to reflect on their experiences within Medact and offer constructive input on how to develop an inclusive and supportive organisational culture that aligns with our mission.
URL:https://www.medact.org/event/medacts-strategy-call-membership-culture-2/
CATEGORIES:Online
ATTACH;FMTTYPE=image/png:https://stat.medact.org/wp-uploads/2025/05/strategy-call-4.png
END:VEVENT
BEGIN:VEVENT
DTSTART;TZID=Europe/London:20250703T193000
DTEND;TZID=Europe/London:20250703T203000
DTSTAMP:20260424T103858
CREATED:20250522T142745Z
LAST-MODIFIED:20250522T142748Z
UID:35799-1751571000-1751574600@www.medact.org
SUMMARY:Medact Leeds group meeting: July
DESCRIPTION:The Leeds group come together monthly for meetings\, mostly online and sometimes in person! Medact Leeds are organising locally for climate and health justice as part of the Health for a Green New Deal network\, and also taking action to end the hostile environment\, campaigning for Patients Not Passports. All are welcome. Please sign up to the mailing list to join the group.
URL:https://www.medact.org/event/leeds-july2025/
CATEGORIES:Group,Meetings
ATTACH;FMTTYPE=image/png:https://www.medact.org/app/uploads/2021/03/2-1.png
END:VEVENT
BEGIN:VEVENT
DTSTART;TZID=Europe/London:20250709T180000
DTEND;TZID=Europe/London:20250709T193000
DTSTAMP:20260424T103858
CREATED:20250618T114300Z
LAST-MODIFIED:20250618T115316Z
UID:35991-1752084000-1752089400@www.medact.org
SUMMARY:Abolitionist Approaches to Health Group – July Meeting
DESCRIPTION:The Abolitionist Approaches to Health Group (originally named the ‘Securitisation of Health Group’) is a space for health workers and campaigners to collectively challenge policing\, criminalisation and securitisation practices within and beyond sites of healthcare.The groups’ current priority campaign is calling for the repeal of Prevent in the NHS\, the adoption of evidence-based public health policies\, and the redressal of harms caused by Prevent. We organise as three working groups: Workshops & Public Engagement\, Policy & Lobbying\, FOIs and Research.New members are always welcome! If you have any questions or concerns about attending\, please email our Campaign Lead Sarah Lasoye at sarahlasoye@medact.org.
URL:https://www.medact.org/event/abolitionist-approaches-to-health-group-july/
CATEGORIES:Group,Meetings,Online
ATTACH;FMTTYPE=image/png:https://stat.medact.org/wp-uploads/2025/06/Abolitionist-Approaches-to-Health-Group-Twitter.png
END:VEVENT
BEGIN:VEVENT
DTSTART;TZID=Europe/London:20250710T183000
DTEND;TZID=Europe/London:20250710T203000
DTSTAMP:20260424T103858
CREATED:20250319T162948Z
LAST-MODIFIED:20250522T143119Z
UID:35168-1752172200-1752179400@www.medact.org
SUMMARY:Medact London group meeting: July
DESCRIPTION:Across London\, health workers are organising and campaigning for better access to secure\, quality\, affordable and sustainable housing. This includes working alongside local groups to support local campaigns\, as well as demanding policy change on a national level. All are welcome. \n\n\n\nIf you would like to get involved you can contact Jordi (jordilopezbotey@medact.org) or Cal (calumbarnes@medact.org) \n\n\n\nIf you have any questions don’t hesitate to get in touch\, you can also sign up to the Medact London email list using the box below for updates on our work. \n\n\n\nThe meeting is hybrid\, on Zoom and in-person at our office in Bethnal Green: \n\n\n\nMedact\, Room 104\, Pelican House144 Cambridge Heath RdLondon\, E1 5QJ
URL:https://www.medact.org/event/medact-london-july2025/
LOCATION:Medact\, Pelican House\, 144 Cambridge Heath Road\, London\, E1 5QJ
CATEGORIES:Group,Hybrid,Meetings
ATTACH;FMTTYPE=image/png:https://www.medact.org/app/uploads/2016/05/Medact-London.png
END:VEVENT
BEGIN:VEVENT
DTSTART;TZID=Europe/London:20250714T180000
DTEND;TZID=Europe/London:20250714T190000
DTSTAMP:20260424T103858
CREATED:20250522T141554Z
LAST-MODIFIED:20250522T141557Z
UID:35765-1752516000-1752519600@www.medact.org
SUMMARY:Medact Bristol group meeting: July
DESCRIPTION:Medact Bristol is interested and engaged in local\, national and international issues that affect public health. Since its creation\, Medact Bristol has focused its efforts on campaigns on climate\, environment and sustainability\, divestment\, and migrant access to healthcare. The group’s most recent focus was supporting Reclaim our Buses\, a campaign in Bristol to bring buses back into public control. They are now supporting a tenant-led campaign for healthy housing. New members are welcome! Sign up below to receive updates from the group and links to join meetings.
URL:https://www.medact.org/event/bristol-july-2025/
CATEGORIES:Group,Meetings
ATTACH;FMTTYPE=image/png:https://stat.medact.org/wp-uploads/2024/02/Medact-Bristol-Transport-Clinic-feature.png
END:VEVENT
BEGIN:VEVENT
DTSTART;TZID=Europe/London:20250716T180000
DTEND;TZID=Europe/London:20250716T193000
DTSTAMP:20260424T103858
CREATED:20250618T085036Z
LAST-MODIFIED:20250618T085750Z
UID:35926-1752688800-1752694200@www.medact.org
SUMMARY:Nuclear Weapons Group - July Meeting
DESCRIPTION:Medact’s Nuclear Weapons Group represents the longest standing aspect of Medact’s work towards nuclear abolition\, and to address war\, armed violence and conflict as global threats to health. \n\n\n\nWe meet to provide an update on our ongoing campaigning work\, and discuss the current global political landscape as related to nuclear weapons\, militarisation and disarmament. Register below to receive the meeting link! For more info or with questions\, email Sarah: sarahlasoye@medact.org
URL:https://www.medact.org/event/nuclear-weapons-group-july/
CATEGORIES:Group,Meetings,Online
ATTACH;FMTTYPE=image/png:https://stat.medact.org/wp-uploads/2022/10/Nuclear-Weapons-Group.png
END:VEVENT
BEGIN:VEVENT
DTSTART;TZID=Europe/London:20250717T190000
DTEND;TZID=Europe/London:20250717T203000
DTSTAMP:20260424T103858
CREATED:20250613T094124Z
LAST-MODIFIED:20250717T092304Z
UID:35938-1752778800-1752784200@www.medact.org
SUMMARY:Trans Health Justice
DESCRIPTION:Trans people seeking gender-affirming healthcare are routinely confronted with pathologisation and the slow violence of years-long waiting lists. In the past five years\, attacks on trans healthcare in the UK have intensified: \n\n\n\n\nThe NHS has halted prescription of puberty blockers for under-18s in the context of gender-affirming care\n\n\n\nAdult trans healthcare services remain chronically underfunded and difficult to access\n\n\n\nA recent Supreme Court ruling undermines the right to bodily autonomy and self-determination\n\n\n\n\nThese attacks are not isolated – they’re part of a wider rollback of health services and human rights in the UK.For this online event\, we’ll explore the state of trans health and trans rights in the UK\, how they’re shaped by social and economic determinants like housing and austerity and what resistance rooted in solidarity and justice can look like.We’ll hear from: \n\n\n\n\nJack Doyle\, historian & trans health advocate\n\n\n\nFae Fulconis\, athlete and campaigner\n\n\n\nShiraz Hussain\, member of rs21\n\n\n\n\nThis event is especially valuable for health workers\, but it’s open to everyone – so please share widely!This is part of Medact’s Learning for Action series that aims to equip us with the knowledge and skills we need to win a more just world.
URL:https://www.medact.org/event/trans-health-justice-online/
CATEGORIES:Online
ATTACH;FMTTYPE=image/png:https://stat.medact.org/wp-uploads/2025/06/Trans-Health-Justice-Header-1.png
END:VEVENT
BEGIN:VEVENT
DTSTART;TZID=Europe/London:20250721T190000
DTEND;TZID=Europe/London:20250721T203000
DTSTAMP:20260424T103858
CREATED:20250704T103242Z
LAST-MODIFIED:20250704T153123Z
UID:36095-1753124400-1753129800@www.medact.org
SUMMARY:Welcome call: join the No Palantir in the NHS campaign
DESCRIPTION:Effective organising often comes from workers and communities coming together to fight for their demands. Palestinian health unions have called for our solidarity and action to end the complicity of our institutions in the genocide. Following recent wins at the BMA Annual Representative Meeting\, health workers have more power than ever to organise in their workplace for Palestine. \n\n\n\nHealth Workers for a Free Palestine UK’s (HW4FP UK) current campaign is focused on a US-based military\, AI and surveillance company called Palantir that supplies its technologies to the Israeli Defence Ministry whilst it orchestrates genocide in Gaza. They also supply technology to ICE for mass deportations in the US and provide police forces with ‘predictive policing’ technology. This company was recently awarded a £330 million contract with NHS England to manage confidential patient data on a national scale.We say “no” to Palantir in our NHS. Attend this onboarding call hosted by HW4FP to find out about and involve yourself in the No Palantir in the NHS campaign and organise against privatisation\, surveillance and genocide. We will go through the strategy and history of the campaign\, as well as organising tips and help you to set up campaigns in your local area.Join the worker-led movement to end complicity in genocide! 
URL:https://www.medact.org/event/welcome-call-join-the-no-palantir-in-the-nhs-campaign/
CATEGORIES:Meetings,Online
ATTACH;FMTTYPE=image/png:https://stat.medact.org/wp-uploads/2025/07/Untitled-design-3.png
END:VEVENT
END:VCALENDAR