BEGIN:VCALENDAR
VERSION:2.0
PRODID:-//Medact - ECPv6.6.3//NONSGML v1.0//EN
CALSCALE:GREGORIAN
METHOD:PUBLISH
X-ORIGINAL-URL:https://www.medact.org
X-WR-CALDESC:Events for Medact
REFRESH-INTERVAL;VALUE=DURATION:PT1H
X-Robots-Tag:noindex
X-PUBLISHED-TTL:PT1H
BEGIN:VTIMEZONE
TZID:Europe/London
BEGIN:DAYLIGHT
TZOFFSETFROM:+0000
TZOFFSETTO:+0100
TZNAME:BST
DTSTART:20250330T010000
END:DAYLIGHT
BEGIN:STANDARD
TZOFFSETFROM:+0100
TZOFFSETTO:+0000
TZNAME:GMT
DTSTART:20251026T010000
END:STANDARD
END:VTIMEZONE
BEGIN:VEVENT
DTSTART;TZID=Europe/London:20250505T180000
DTEND;TZID=Europe/London:20250505T190000
DTSTAMP:20260424T171849
CREATED:20250220T145936Z
LAST-MODIFIED:20250220T145939Z
UID:35226-1746468000-1746471600@www.medact.org
SUMMARY:Medact Bristol group meeting: May
DESCRIPTION:Medact Bristol is interested and engaged in local\, national and international issues that affect public health. Since its creation\, Medact Bristol has focused its efforts on campaigns on climate\, environment and sustainability\, divestment\, and migrant access to healthcare. The group’s most recent focus was supporting  Reclaim our Buses\, a campaign in Bristol to bring buses back into public control. They are now supporting a tenant-led campaign for healthy housing. New members are welcome! Sign up below to receive updates from the group and links to join meetings.
URL:https://www.medact.org/event/bristol-may2025/
CATEGORIES:Group,Meetings
ATTACH;FMTTYPE=image/png:https://stat.medact.org/wp-uploads/2024/02/Medact-Bristol-Transport-Clinic-feature.png
END:VEVENT
BEGIN:VEVENT
DTSTART;TZID=Europe/London:20250507T200000
DTEND;TZID=Europe/London:20250507T210000
DTSTAMP:20260424T171849
CREATED:20250304T142132Z
LAST-MODIFIED:20250305T090829Z
UID:35190-1746648000-1746651600@www.medact.org
SUMMARY:Medact North East Meeting
DESCRIPTION:Medact North East are a collective of health workers and students based across the North East\, from Northumberland to Newcastle to Middlesbrough! \n\n\n\nCurrently we are working on a climate justice campaign\, supporting a grassroots group to win the fight against a large waste incinerator on Teesside\, which would pollute the air of the local community as well as accelerating the climate crisis.  \n\n\n\nWe are also exploring campaigns around migrant health justice issues through our new ‘Migrant Health’ group.  This includes supporting No to Hassockfield which is fighting to shut down a women’s detention centre in County Durham.     \n\n\n\nThe group meets monthly. Each meeting is facilitated by a different person and they welcome new members! The time is used to discuss current campaigns and anything else relevant. For more information or to join a meeting in-person\, get in touch at northeast@medact.org or subscribe below.
URL:https://www.medact.org/event/medact-north-east-meeting-4/
ATTACH;FMTTYPE=image/png:https://stat.medact.org/wp-uploads/2024/05/North-East-cop26-protest.png
END:VEVENT
BEGIN:VEVENT
DTSTART;TZID=Europe/London:20250514T190000
DTEND;TZID=Europe/London:20250514T203000
DTSTAMP:20260424T171849
CREATED:20250417T160314Z
LAST-MODIFIED:20250422T122331Z
UID:35620-1747249200-1747254600@www.medact.org
SUMMARY:Who Benefits: Welfare Cuts & War Budgets
DESCRIPTION:Amidst rising living costs and growing pressure on overstretched public services\, the Government is making sweeping cuts to welfare\, winter fuel payments\, and adult social care in order to fund increased military spending.  \n\n\n\nWe’ll be exploring why the Government is pursuing austerity 2.0\, the impacts we will see across the NHS\, who is being asked to pay the price for these economic decisions and how we can join them in resisting.   \n\n\n\nWe’ll hear from Inclusion London\, China Mills\, and Sam Perlo-Freeman. \n\n\n\nThis is part of Medact’s Learning for Action series that aims to equip us with the knowledge and skills we need to win a more just world.
URL:https://www.medact.org/event/who-benefits-online/
LOCATION:Zoom
ATTACH;FMTTYPE=image/png:https://stat.medact.org/wp-uploads/2025/04/Who-Benefits-Feature.png
END:VEVENT
BEGIN:VEVENT
DTSTART;TZID=Europe/London:20250520T180000
DTEND;TZID=Europe/London:20250520T193000
DTSTAMP:20260424T171849
CREATED:20250127T143712Z
LAST-MODIFIED:20250506T105608Z
UID:35028-1747764000-1747769400@www.medact.org
SUMMARY:Nuclear Weapons Group meeting: May
DESCRIPTION:Medact’s Nuclear Weapons Group represents the longest standing aspect of Medact’s work towards nuclear abolition\, and to address war\, armed violence and conflict as global threats to health. \n\n\n\nWe will meet to provide an update on our ongoing work\, and discuss the current global political landscape as related to nuclear weapons and disarmament. Register below to receive the meeting link! \n\n\n\nFor more info or with questions\, email Sarah: sarahlasoye@medact.org
URL:https://www.medact.org/event/nwg-may-2025/
CATEGORIES:Group,Meetings,Online
ATTACH;FMTTYPE=image/png:https://stat.medact.org/wp-uploads/2022/10/Nuclear-Weapons-Group.png
END:VEVENT
BEGIN:VEVENT
DTSTART;TZID=Europe/London:20250521T183000
DTEND;TZID=Europe/London:20250521T200000
DTSTAMP:20260424T171849
CREATED:20250507T112039Z
LAST-MODIFIED:20250507T113203Z
UID:35675-1747852200-1747857600@www.medact.org
SUMMARY:Don't Bank on the Bomb! UK – Open Working Group Meeting
DESCRIPTION:Don’t Bank on the Bomb! UK would like to invite you to an open working group meeting. \n\n\n\nSince its launch in September 2024\, Don’t Bank on the Bomb! UK has had an incredible start\, with the launch of the toolkit\, engaging network meetings and taking action against the five worst offending UK banks funding nuclear weapons. Now\, as the campaign transitions into a more active movement we are keen to hear from you on how you would like to get involved! \n\n\n\nFrom social media\, to outreach\, to research and more\, there are many ways in which you can contribute to the campaign. Whether you’re an experienced activist or just learning about the issue\, Don’t Bank on the Bomb! UK is the perfect place to join others committed to building a safer\, nuclear-free world. 
URL:https://www.medact.org/event/dbotb-working-group-meeting-may/
LOCATION:Zoom
CATEGORIES:Meetings,Online
ATTACH;FMTTYPE=image/png:https://stat.medact.org/wp-uploads/2025/05/Dont-Bank-on-The-Bomb-Working-Group-Meeting.png
END:VEVENT
END:VCALENDAR