BEGIN:VCALENDAR
VERSION:2.0
PRODID:-//Medact - ECPv6.6.3//NONSGML v1.0//EN
CALSCALE:GREGORIAN
METHOD:PUBLISH
X-WR-CALNAME:Medact
X-ORIGINAL-URL:https://www.medact.org
X-WR-CALDESC:Events for Medact
REFRESH-INTERVAL;VALUE=DURATION:PT1H
X-Robots-Tag:noindex
X-PUBLISHED-TTL:PT1H
BEGIN:VTIMEZONE
TZID:Europe/London
BEGIN:DAYLIGHT
TZOFFSETFROM:+0000
TZOFFSETTO:+0100
TZNAME:BST
DTSTART:20210328T010000
END:DAYLIGHT
BEGIN:STANDARD
TZOFFSETFROM:+0100
TZOFFSETTO:+0000
TZNAME:GMT
DTSTART:20211031T010000
END:STANDARD
END:VTIMEZONE
BEGIN:VEVENT
DTSTART;TZID=Europe/London:20210105T190000
DTEND;TZID=Europe/London:20210105T190000
DTSTAMP:20260424T143328
CREATED:20210105T130200Z
LAST-MODIFIED:20210127T122618Z
UID:21520-1609873200-1609873200@www.medact.org
SUMMARY:Climate & Health Research Team Meeting
DESCRIPTION:Tonight’s meeting of the Climate & Health Research team is now at 7pm\, not 6.30pm as previously advertised. \nWe’ll be starting work planning our next briefing on public health and the Green New Deal. \nPlease email office@medact.org for joining details.
URL:https://www.medact.org/event/climate-health-research-team-meeting/
CATEGORIES:Meetings,Online
ATTACH;FMTTYPE=image/jpeg:https://www.medact.org/app/uploads/2020/04/Climate-Health-Medact-twitter.jpg
END:VEVENT
BEGIN:VEVENT
DTSTART;TZID=Europe/London:20210107T190000
DTEND;TZID=Europe/London:20210107T190000
DTSTAMP:20260424T143328
CREATED:20210105T130841Z
LAST-MODIFIED:20210127T122631Z
UID:21523-1610046000-1610046000@www.medact.org
SUMMARY:Climate & Health Action Planning Team Meeting
DESCRIPTION:The Climate & Health Action Planning team are meeting on Thursday 7th January at 7pm to continue working on plans for launching our Health for a Green New Deal campaign in the Spring. \nPlease email office@medact.org for joining details.
URL:https://www.medact.org/event/climate-health-action-planning-team-meeting/
CATEGORIES:Meetings,Online
ATTACH;FMTTYPE=image/jpeg:https://www.medact.org/app/uploads/2020/04/Climate-Health-Medact-twitter.jpg
END:VEVENT
BEGIN:VEVENT
DTSTART;TZID=Europe/London:20210114T170000
DTEND;TZID=Europe/London:20210114T183000
DTSTAMP:20260424T143328
CREATED:20201221T173038Z
LAST-MODIFIED:20201221T175605Z
UID:21431-1610643600-1610649000@www.medact.org
SUMMARY:Prevent duty in NHS ─ January planning meeting
DESCRIPTION:We are having our regular meeting to discuss the different ways that the health community can take collective action on issues related to the Prevent counter-extremism policy in healthcare\, and its connections with broader securitisation and racism in the NHS. \nThe meeting will take place online on Thursday 14th January from 5 – 6:30pm. \nYou must register for this meeting below\, and details of how you can join the Zoom meeting will be sent to you. \nIf you are unable to attend but are interested in being involved in future meetings or actions\, you can sign up to our Securitisation of Health mailing list or email reemabuhayyeh@medact.org \nOur main priority is that as much as possible\, health workers\, patients and others impacted by Prevent who may attend this event feel safe both professionally and personally participating in Medact’s activities. As such\, we ask that if you work in Prevent\, the police or the Home Office\, that you do not register to attend this event. \nFor any queries or for further discussion on this\, please e-mail the address above. \n[Registration has now closed]
URL:https://www.medact.org/event/prevent-duty-in-nhs-%e2%94%80-january-planning-meeting/
LOCATION:Zoom
CATEGORIES:Meetings,Online
ATTACH;FMTTYPE=image/jpeg:https://www.medact.org/app/uploads/2020/12/Prevent-Duty-in-the-NHS-October-Planning-Meeting-3.jpg
END:VEVENT
BEGIN:VEVENT
DTSTART;TZID=Europe/London:20210114T183000
DTEND;TZID=Europe/London:20210114T200000
DTSTAMP:20260424T143328
CREATED:20200825T103748Z
LAST-MODIFIED:20201013T155731Z
UID:20737-1610649000-1610654400@www.medact.org
SUMMARY:Climate & Health Group - January Meeting
DESCRIPTION:Join us for the January Climate & Health Group meeting on Thursday 14th January at 6.30pm. \n[Registration has now closed] \n 
URL:https://www.medact.org/event/climate-health-group-january-meeting/
LOCATION:Zoom
CATEGORIES:Meetings,Online
ATTACH;FMTTYPE=image/jpeg:https://www.medact.org/app/uploads/2020/04/Climate-Health-Medact-twitter.jpg
END:VEVENT
BEGIN:VEVENT
DTSTART;TZID=Europe/London:20210114T183000
DTEND;TZID=Europe/London:20210114T200000
DTSTAMP:20260424T143328
CREATED:20210112T143423Z
LAST-MODIFIED:20210112T143509Z
UID:21559-1610649000-1610654400@www.medact.org
SUMMARY:Migrant Solidarity Group: January Meeting
DESCRIPTION:The MSG’s first monthly meeting of 2021 will be on Thursday 14th January at 18.30.  \nWe hope many of you will be able to join us and would love to welcome new members to our first meeting of 2021.  \nTo find out how to join the online meeting please email migrantsolidarity@medact.org
URL:https://www.medact.org/event/migrant-solidarity-group-meeting-7-2/
CATEGORIES:Meetings,Online
ATTACH;FMTTYPE=image/png:https://www.medact.org/app/uploads/2017/08/MSG-Logo-Fix.png
END:VEVENT
BEGIN:VEVENT
DTSTART;TZID=Europe/London:20210114T190000
DTEND;TZID=Europe/London:20210114T203000
DTSTAMP:20260424T143328
CREATED:20201222T105919Z
LAST-MODIFIED:20210104T120926Z
UID:21441-1610650800-1610656200@www.medact.org
SUMMARY:East Midlands January meeting
DESCRIPTION:Join us on Thursday 14th January to get involved in our work to tackle climate change in the East Midlands. \nIf you would like to join the meeting please RSVP below to receive joining details. \n[Registration has now closed] \n  \n 
URL:https://www.medact.org/event/east-midlands-january-meeting/
CATEGORIES:Meetings,Online
ATTACH;FMTTYPE=image/jpeg:https://www.medact.org/app/uploads/2020/06/Untitled-design-33.jpg
END:VEVENT
BEGIN:VEVENT
DTSTART;TZID=Europe/London:20210121T183000
DTEND;TZID=Europe/London:20210121T193000
DTSTAMP:20260424T143328
CREATED:20210120T104306Z
LAST-MODIFIED:20210127T122745Z
UID:21594-1611253800-1611257400@www.medact.org
SUMMARY:Economic Justice & Health January Planning Meeting
DESCRIPTION:Planning meeting for members of the Economic Justice & Health Group. If you’re interested in joining please email siddharthamehta@medact.org 
URL:https://www.medact.org/event/economic-justice-health-january-planning-meeting/
CATEGORIES:Meetings,Online
ATTACH;FMTTYPE=image/jpeg:https://www.medact.org/app/uploads/2020/11/1.jpg
END:VEVENT
BEGIN:VEVENT
DTSTART;TZID=Europe/London:20210121T190000
DTEND;TZID=Europe/London:20210121T203000
DTSTAMP:20260424T143328
CREATED:20210120T104051Z
LAST-MODIFIED:20210127T122647Z
UID:21592-1611255600-1611261000@www.medact.org
SUMMARY:Climate & Health Group Action Planning
DESCRIPTION:The Climate & Health Group Action Planning team will be meeting this Thursday to continue work on upcoming Health for a Green New Deal actions. \nIf you’re interested in joining please email robabrams@medact.org \n 
URL:https://www.medact.org/event/climate-health-group-action-planning/
CATEGORIES:Meetings,Online
ATTACH;FMTTYPE=image/jpeg:https://www.medact.org/app/uploads/2020/05/Medact-Climate-Health-Group.jpg
END:VEVENT
BEGIN:VEVENT
DTSTART;TZID=Europe/London:20210122T120000
DTEND;TZID=Europe/London:20210122T120000
DTSTAMP:20260424T143328
CREATED:20210119T163315Z
LAST-MODIFIED:20230829T150353Z
UID:21578-1611316800-1611316800@www.medact.org
SUMMARY:Spread The Word: Nuclear Weapons Are Banned!
DESCRIPTION:This Friday 22nd January\, the UN Treaty on the Prohibition of Nuclear Weapons is entering into international law!\n?️ This is a big step toward the total elimination of nuclear weapons.\n⚖️ The Treaty means that all nuclear weapons activity will be illegal under international law.\n✊? It provides a strong mechanism for campaigners to push nuclear states to begin the process of getting rid of their nuclear weapons.\nHelp us spread the word about this historic event by joining our online social media action at 12 midday.\n\nUse our template Twitter/ Facebook/ Instagram post ─ with a shareable graphic which you will need to download to include in your post.\n\nYou can personalise your post but please:\n\n 	make sure to use the hashtags #NuclearBan and #UK4TPNW\n 	make sure to include the graphic provided\n 	do not post it before midday on 22nd January!\n\nIf you have any questions\, please contact reemabuhayyeh@medact.org
URL:https://www.medact.org/event/spread-the-word-nuclear-weapons-are-banned/
CATEGORIES:Actions,Online
ATTACH;FMTTYPE=image/jpeg:https://www.medact.org/app/uploads/2020/10/P9222293-scaled.jpg
END:VEVENT
BEGIN:VEVENT
DTSTART;TZID=Europe/London:20210122T193000
DTEND;TZID=Europe/London:20210122T210000
DTSTAMP:20260424T143328
CREATED:20210113T141901Z
LAST-MODIFIED:20210119T103455Z
UID:21567-1611343800-1611349200@www.medact.org
SUMMARY:Musicians for Peace and Disarmament concert to celebrate the TPNW
DESCRIPTION:Our friends at Musicians for Peace and Disarmament have organised a sequence of short musical performances to mark and to celebrate the coming into international law of UN’s Treaty on the Prohibition of Nuclear Weapons. \nThey will be joined by guest speaker Dr. Tilman Ruff\, Associate Professor at the University of Melbourne\, and Co-president of International Physicians for the Prevention of Nuclear War. \nThe concert will be on Friday 22nd January at 7.30pm – 9.00pm and it will be a brilliant way to mark the historic moment the Nuclear Ban enters into force! \nBook your place now
URL:https://www.medact.org/event/musicians-for-peace-and-disarmament-concert-to-celebrate-the-tpnw/
CATEGORIES:External,Online
ATTACH;FMTTYPE=image/jpeg:https://www.medact.org/app/uploads/2015/11/musiciansforpeace.jpg
END:VEVENT
BEGIN:VEVENT
DTSTART;TZID=Europe/London:20210126T183000
DTEND;TZID=Europe/London:20210126T200000
DTSTAMP:20260424T143328
CREATED:20210125T145833Z
LAST-MODIFIED:20210125T145833Z
UID:21638-1611685800-1611691200@www.medact.org
SUMMARY:Medact Brighton: Meeting
DESCRIPTION:Our Brighton Group will be meeting online on Tuesday 26th January. \nTo find out how to join their meeting please email brighton@medact.org
URL:https://www.medact.org/event/medact-brighton-meeting-2/
CATEGORIES:Group,Online
ATTACH;FMTTYPE=image/jpeg:https://www.medact.org/app/uploads/2020/10/brighton_header_image.jpg
END:VEVENT
BEGIN:VEVENT
DTSTART;TZID=Europe/London:20210130T093000
DTEND;TZID=Europe/London:20210130T170000
DTSTAMP:20260424T143328
CREATED:20210127T111518Z
LAST-MODIFIED:20210127T120624Z
UID:21642-1611999000-1612026000@www.medact.org
SUMMARY:University of Birmingham Docs Not Cops: Exploring Health Inequalities in 2020
DESCRIPTION:Dr Max Thoburn\, a member of our Economic Justice & Health Group\, will be speaking at the University of Birmingham Docs Not Cops “Exploring Health Inequalities in 2020” Conference. He will be discussing findings from the upcoming Medact report on economic policy and public health during the COVID-19 pandemic. \nDr Sarah Walpole\, another Medact member\, will also be speaking on a panel discussion during the Conference\, so don’t miss out on seeing two brilliant Medact members in action! \nThe conference is on Saturday 30th January\, 9.30am-5:00pm and you can register your place for the conference here. \n 
URL:https://www.medact.org/event/university-of-birmingham-docs-not-cops-exploring-health-inequalities-in-2020/
CATEGORIES:Online,Talks & Lectures
ATTACH;FMTTYPE=image/jpeg:https://www.medact.org/app/uploads/2021/01/download-11.jpeg
END:VEVENT
END:VCALENDAR