BEGIN:VCALENDAR
VERSION:2.0
PRODID:-//Medact - ECPv6.6.3//NONSGML v1.0//EN
CALSCALE:GREGORIAN
METHOD:PUBLISH
X-WR-CALNAME:Medact
X-ORIGINAL-URL:https://www.medact.org
X-WR-CALDESC:Events for Medact
REFRESH-INTERVAL;VALUE=DURATION:PT1H
X-Robots-Tag:noindex
X-PUBLISHED-TTL:PT1H
BEGIN:VTIMEZONE
TZID:Europe/London
BEGIN:DAYLIGHT
TZOFFSETFROM:+0000
TZOFFSETTO:+0100
TZNAME:BST
DTSTART:20200329T010000
END:DAYLIGHT
BEGIN:STANDARD
TZOFFSETFROM:+0100
TZOFFSETTO:+0000
TZNAME:GMT
DTSTART:20201025T010000
END:STANDARD
END:VTIMEZONE
BEGIN:VEVENT
DTSTART;TZID=Europe/London:20201203T170000
DTEND;TZID=Europe/London:20201203T190000
DTSTAMP:20260424T132218
CREATED:20201127T181810Z
LAST-MODIFIED:20240408T103101Z
UID:21283-1607014800-1607022000@www.medact.org
SUMMARY:Local support for Nuclear Ban Treaty - strategy meeting
DESCRIPTION:In the new year\, the Treaty on the Prohibition of Nuclear Weapons (TPNW) is set to enter into force and become international law. And yet\, the UK government has refused to engage with the TPNW\, let alone sign up to the Treaty. \n\n\n\nAround the world\, cities and towns have come out in support of the Treaty\, putting pressure on national governments to sign up to the Treaty. In the UK\, cities such as Manchester and Edinburgh have joined the ICAN Cities Appeal. \n\n\n\nJoin us on Thursday 3 December at 5pm to discuss a strategy for Medact members and the wider health community to encourage local councils to support the TPNW. \n\n\n\nWe will also be hearing from Sean Morris\, the UK & Ireland Nuclear Free Local Authorities (NFLA) and Mayors for Peace Chapter Secretary. \n\n\n\nIf you have any questions\, please email reemabuhayyeh@medact.org \n\n\n\n[Registration has now closed]
URL:https://www.medact.org/event/local-support-for-nuclear-ban-treaty-strategy-meeting/
LOCATION:Zoom
CATEGORIES:Launches,Meetings,Online
ATTACH;FMTTYPE=image/jpeg:https://www.medact.org/app/uploads/2020/11/ICAN-Cities-Appeal.jpg
END:VEVENT
BEGIN:VEVENT
DTSTART;TZID=Europe/London:20201203T183000
DTEND;TZID=Europe/London:20201203T200000
DTSTAMP:20260424T132218
CREATED:20201125T122829Z
LAST-MODIFIED:20201125T122829Z
UID:21239-1607020200-1607025600@www.medact.org
SUMMARY:Migrant Solidarity Group: Meeting
DESCRIPTION:Our Migrant Solidarity Group will be meeting on Thursday 3rd December at 18:30. \nTo find out how to join the online meeting please email migrantsolidarity@medact.org
URL:https://www.medact.org/event/migrant-solidarity-group-meeting-7/
CATEGORIES:Meetings,Online
ATTACH;FMTTYPE=image/png:https://www.medact.org/app/uploads/2017/08/MSG-Logo-Fix.png
END:VEVENT
BEGIN:VEVENT
DTSTART;TZID=Europe/London:20201203T190000
DTEND;TZID=Europe/London:20201203T210000
DTSTAMP:20260424T132218
CREATED:20201125T130701Z
LAST-MODIFIED:20201125T131445Z
UID:21241-1607022000-1607029200@www.medact.org
SUMMARY:Medact Bristol & Patients Not Passports: Train the Trainers
DESCRIPTION:If you are a health worker in Bristol keen to find out more about the national Patients not Passports campaign\, Medact Bristol are running a virtual ‘Train the Trainers’ session on Thursday 3rd December\, 7-9pm. \nThis is a chance to find out more about Medact’s access to healthcare campaign as well as a step by step guide on how to run these training sessions to healthcare workers. \nThe session will be run by Medact Bristol/PnP campaigners Helen\, James\, Johanna and Livi. \nRegister to join the session \nIf you do want to join\, it would be great if you could read through the PnP Briefing beforehand\, so you know a bit about the charging policy\, and we can focus the session how to deliver the content to different audiences.
URL:https://www.medact.org/event/medact-bristol-patients-not-passports-train-the-trainers/
CATEGORIES:Meetings,Online
ATTACH;FMTTYPE=image/jpeg:https://www.medact.org/app/uploads/2020/11/BRISTOL.jpg
END:VEVENT
BEGIN:VEVENT
DTSTART;TZID=Europe/London:20201207T190000
DTEND;TZID=Europe/London:20201207T203000
DTSTAMP:20260424T132218
CREATED:20201127T160342Z
LAST-MODIFIED:20240408T102837Z
UID:21268-1607367600-1607373000@www.medact.org
SUMMARY:Health & Climate Justice at COP26
DESCRIPTION:In November 2021\, world leaders will be gathering in Glasgow for the COP 26 climate talks. This represents the first real opportunity to fully assess global commitment to tackling climate change since the Paris Agreement was signed in 2015. In the wake of the Covid-19 pandemic\, these talks also form a key moment in which the international community has a clear choice to make: return to business as usual or bring about a global green recovery for the health of people and planet? \n\n\n\nAs highlighted by recent reports\, the fossil fuel industry is looking to influence the outcome of the climate talks and block effective action to eliminate emissions. For the sake of the health and wellbeing of communities across the globe\, it is vital that we stop them. \n\n\n\nMedact\, together with Students for Global Health\, Health Declares and the Centre for Sustainable Healthcare is coordinating a letter from the wider health community to the UK Government and COP26 leadership\, demanding that they act to safeguard the health of people and planet\, laying the groundwork for the success of the talks in Glasgow\, next year. \n\n\n\nJoin us on Monday 7th December as we launch our new briefing\, ‘Health and Climate Justice at COP26’\, authored by the Medact Climate & Health Research Group & Students for Global Health. We will hear from the authors of the briefing and then take action together to amplify our health community letter! \n\n\n\n[Registration has now closed]
URL:https://www.medact.org/event/health-climate-justice-at-cop26/
LOCATION:Zoom
CATEGORIES:Launches,Online
ATTACH;FMTTYPE=image/png:https://www.medact.org/app/uploads/2020/11/healthclimate-justice-at-cop26-briefing-launch.png
END:VEVENT
BEGIN:VEVENT
DTSTART;TZID=Europe/London:20201209T190000
DTEND;TZID=Europe/London:20201209T203000
DTSTAMP:20260424T132218
CREATED:20201125T180728Z
LAST-MODIFIED:20240408T103058Z
UID:21245-1607540400-1607545800@www.medact.org
SUMMARY:East Midlands December meeting
DESCRIPTION:Join us on Wednesday 9th December to get involved in our work to tackle climate change in the East Midlands. \n\n\n\nPlease RSVP below for joining details. \n\n\n\n[Registration has now closed]
URL:https://www.medact.org/event/east-midlands-december-meeting/
LOCATION:Zoom
CATEGORIES:Meetings,Online
ATTACH;FMTTYPE=image/jpeg:https://www.medact.org/app/uploads/2020/06/Untitled-design-33.jpg
END:VEVENT
BEGIN:VEVENT
DTSTART;TZID=Europe/London:20201210T183000
DTEND;TZID=Europe/London:20201210T200000
DTSTAMP:20260424T132218
CREATED:20200825T103606Z
LAST-MODIFIED:20201013T155353Z
UID:20735-1607625000-1607630400@www.medact.org
SUMMARY:Climate & Health Group - December Meeting
DESCRIPTION:Join us for the December Climate & Health Group meeting on Thursday 10th December at 6.30pm. \n[Registration has now closed] \n 
URL:https://www.medact.org/event/climate-health-group-december-meeting/
LOCATION:Zoom
CATEGORIES:Meetings,Online
ATTACH;FMTTYPE=image/jpeg:https://www.medact.org/app/uploads/2020/04/Climate-Health-Medact-twitter.jpg
END:VEVENT
BEGIN:VEVENT
DTSTART;TZID=Europe/London:20201215T183000
DTEND;TZID=Europe/London:20201215T200000
DTSTAMP:20260424T132218
CREATED:20201209T113452Z
LAST-MODIFIED:20201209T113452Z
UID:21396-1608057000-1608062400@www.medact.org
SUMMARY:Migrant Solidarity Group: Seasonal Card Writing
DESCRIPTION:Our Migrant Solidarity Group will be meeting for some seasonal card writing on Tuesday 15th December\, 6.30pm – 8.00pm. \nTo find out how to join the meeting please contact us.
URL:https://www.medact.org/event/migrant-solidarity-group-seasonal-card-writing/
CATEGORIES:Meetings,Online
ATTACH;FMTTYPE=image/png:https://www.medact.org/app/uploads/2017/08/MSG-Logo-Fix.png
END:VEVENT
BEGIN:VEVENT
DTSTART;TZID=Europe/London:20201216T183000
DTEND;TZID=Europe/London:20201216T200000
DTSTAMP:20260424T132218
CREATED:20201209T114659Z
LAST-MODIFIED:20201209T114659Z
UID:21400-1608143400-1608148800@www.medact.org
SUMMARY:Health For Green New Deal Scotland: Meeting
DESCRIPTION:Our Health For A Green New Deal Scotland Group will be meeting online on Wednesday 16th December\, 6.30pm-8.00pm. \nTo find out how to join the online meeting please get in contact with us.
URL:https://www.medact.org/event/health-for-green-new-deal-scotland-meeting/
CATEGORIES:Meetings,Online
ATTACH;FMTTYPE=image/png:https://www.medact.org/app/uploads/2020/10/scothgndsesh.png
END:VEVENT
BEGIN:VEVENT
DTSTART;TZID=Europe/London:20201216T191500
DTEND;TZID=Europe/London:20201216T203000
DTSTAMP:20260424T132218
CREATED:20201209T114152Z
LAST-MODIFIED:20240408T103112Z
UID:21398-1608146100-1608150600@www.medact.org
SUMMARY:Climate & Health Group: Research & Action Planning Meeting
DESCRIPTION:Following on from the launch of the COP 26 briefing\, the Climate & Health Research group will be meeting on Wednesday 16th December\, 7.15pm – 8.30pm to discuss and explore a briefing that sets out the public health case for a Green New Deal that centres justice. All welcome! \n\n\n\n[Registration has now closed]
URL:https://www.medact.org/event/climate-health-group-research-action-planning-meeting/
CATEGORIES:Meetings,Online
ATTACH;FMTTYPE=image/jpeg:https://www.medact.org/app/uploads/2020/04/Climate-Health-Medact-twitter.jpg
END:VEVENT
END:VCALENDAR