BEGIN:VCALENDAR
VERSION:2.0
PRODID:-//Medact - ECPv6.6.3//NONSGML v1.0//EN
CALSCALE:GREGORIAN
METHOD:PUBLISH
X-WR-CALNAME:Medact
X-ORIGINAL-URL:https://www.medact.org
X-WR-CALDESC:Events for Medact
REFRESH-INTERVAL;VALUE=DURATION:PT1H
X-Robots-Tag:noindex
X-PUBLISHED-TTL:PT1H
BEGIN:VTIMEZONE
TZID:Europe/London
BEGIN:DAYLIGHT
TZOFFSETFROM:+0000
TZOFFSETTO:+0100
TZNAME:BST
DTSTART:20230326T010000
END:DAYLIGHT
BEGIN:STANDARD
TZOFFSETFROM:+0100
TZOFFSETTO:+0000
TZNAME:GMT
DTSTART:20231029T010000
END:STANDARD
END:VTIMEZONE
BEGIN:VEVENT
DTSTART;TZID=Europe/London:20230327T190000
DTEND;TZID=Europe/London:20230327T203000
DTSTAMP:20260424T034213
CREATED:20230213T163804Z
LAST-MODIFIED:20230306T172510Z
UID:28389-1679943600-1679949000@www.medact.org
SUMMARY:Economic Justice & Health group meeting
DESCRIPTION:The Economic Justice & Health group meet regularly to discuss current and future campaigns\, plan events\, work on strategy and share knowledge. The group is open to all and welcomes new members. Questions? Email our EJ&H campaign lead Jordi. \n\n\n[Registration has now closed]
URL:https://www.medact.org/event/ejh-meeting-23/
LOCATION:Zoom
CATEGORIES:Group,Meetings,Online
ATTACH;FMTTYPE=image/png:https://www.medact.org/app/uploads/2021/11/EJH-header-v2.png
END:VEVENT
BEGIN:VEVENT
DTSTART;TZID=Europe/London:20230327T190000
DTEND;TZID=Europe/London:20230327T203000
DTSTAMP:20260424T034213
CREATED:20230213T170516Z
LAST-MODIFIED:20230301T114007Z
UID:28651-1679943600-1679949000@www.medact.org
SUMMARY:Criminalising Distress FOI team meeting
DESCRIPTION:The FOI (“freedom of information”) team meet as part of the Medact Research Network’s current project ‘Criminalising Distress’. \n\n\n\nThe 18-month project explores the evolution and impacts of\, accountability for\, and alternatives to Serenity Integrated Mentoring (SIM)\, a model of mental health care involving police officers into non-emergency therapeutic interventions. \n\n\n\nFor more information about the project email Research and Policy Manager Hil Aked at hilaked@medact.org
URL:https://www.medact.org/event/criminalising-distress-foi-team-meeting-3/
CATEGORIES:Group,Meetings,Online
END:VEVENT
END:VCALENDAR