BEGIN:VCALENDAR
VERSION:2.0
PRODID:-//Medact - ECPv6.6.3//NONSGML v1.0//EN
CALSCALE:GREGORIAN
METHOD:PUBLISH
X-WR-CALNAME:Medact
X-ORIGINAL-URL:https://www.medact.org
X-WR-CALDESC:Events for Medact
REFRESH-INTERVAL;VALUE=DURATION:PT1H
X-Robots-Tag:noindex
X-PUBLISHED-TTL:PT1H
BEGIN:VTIMEZONE
TZID:Europe/London
BEGIN:DAYLIGHT
TZOFFSETFROM:+0000
TZOFFSETTO:+0100
TZNAME:BST
DTSTART:20220327T010000
END:DAYLIGHT
BEGIN:STANDARD
TZOFFSETFROM:+0100
TZOFFSETTO:+0000
TZNAME:GMT
DTSTART:20221030T010000
END:STANDARD
END:VTIMEZONE
BEGIN:VEVENT
DTSTART;TZID=Europe/London:20221114T180000
DTEND;TZID=Europe/London:20221114T193000
DTSTAMP:20260421T032332
CREATED:20221104T161226Z
LAST-MODIFIED:20221104T161315Z
UID:28168-1668448800-1668454200@www.medact.org
SUMMARY:Securitisation of Health group meeting
DESCRIPTION:What is the securitisation of health? \nA number of policing and counter-extremism measures are embedded by the government into UK health services\, which at times requiring health workers to work closely with the police and other security agencies. \nThese measures risk undermining therapeutic relationships\, confidentiality and trust in practitioners – as well as drawing health services and workers into becoming an arm of policing and counter-terror agencies. \nThrough research and campaigns\, Medact aims to shift understandings of ‘security’\, from typically “hard” measures (border enforcement\, a punitive criminal justice system\, counter-terror measures) and advocate for collective and human security\, health and wellbeing. Read more about our work on Securitisation. \nAbout the group\nThe Securitisation of Health group is for health workers interested in working on these issues through campaigning\, lobbying and research. New members are welcome! If you have any questions or concerns about attending\, please email our Campaign Lead Sarah Lasoye at sarahlasoye@medact.org  \n[Registration has now closed]
URL:https://www.medact.org/event/securitisation-meeting1/
LOCATION:Zoom
CATEGORIES:Group,Meetings,Online
ATTACH;FMTTYPE=image/png:https://www.medact.org/app/uploads/2021/03/Securitisation-Of-Health-Group-Twitter.png
END:VEVENT
END:VCALENDAR