BEGIN:VCALENDAR
VERSION:2.0
PRODID:-//Medact - ECPv6.6.3//NONSGML v1.0//EN
CALSCALE:GREGORIAN
METHOD:PUBLISH
X-WR-CALNAME:Medact
X-ORIGINAL-URL:https://www.medact.org
X-WR-CALDESC:Events for Medact
REFRESH-INTERVAL;VALUE=DURATION:PT1H
X-Robots-Tag:noindex
X-PUBLISHED-TTL:PT1H
BEGIN:VTIMEZONE
TZID:Europe/London
BEGIN:DAYLIGHT
TZOFFSETFROM:+0000
TZOFFSETTO:+0100
TZNAME:BST
DTSTART:20220327T010000
END:DAYLIGHT
BEGIN:STANDARD
TZOFFSETFROM:+0100
TZOFFSETTO:+0000
TZNAME:GMT
DTSTART:20221030T010000
END:STANDARD
END:VTIMEZONE
BEGIN:VEVENT
DTSTART;TZID=Europe/London:20220428T190000
DTEND;TZID=Europe/London:20220428T203000
DTSTAMP:20260425T115936
CREATED:20220405T120621Z
LAST-MODIFIED:20230927T112935Z
UID:26565-1651172400-1651177800@www.medact.org
SUMMARY:Economic Justice & Health New Joiners Meeting
DESCRIPTION:Want to get involved in Medact’s Economic Justice campaigns?\n\nThe best way to get up to speed with the campaign and meet other members of the EJ&H group is to come to our next New Joiners meeting.\n\nTo challenge economic and health inequalities\, we need to build power and get as many people as we can involved. You don’t need to work in healthcare to participate!\n\nIn this meeting you’ll:\n\n 	find out about the group\,\n 	what we understand by economic and health inequality\,\n 	ongoing projects and campaigns\,\n 	how we can fight for economic and health justice\,\n 	hear from some of the people working in our different campaign areas\, and\n 	explore the ways you can get involved.\n\nThere will be monthly new joiners meetings so check our calendar or sign up to our mailing list to receive all the updates.\n\nWe can also arrange a call if you’re unable to attend any of the meetings but keen to get involved or develop a local campaign. Just get in touch with Jordi!\n\nRecommended actions:\n\n 	Read our booklets on secure housing\, liveable incomes and tax justice.\n 	Read our ‘Health vs Wealth’ report\n 	Learn more on this campaign area\n 	Check out information on Medact membership\n\n[Registration has now closed]
URL:https://www.medact.org/event/ejh-nj-april/
LOCATION:Zoom
CATEGORIES:Group,Meetings,Online
ATTACH;FMTTYPE=image/png:https://www.medact.org/app/uploads/2022/04/EJH-New-Joiners.png
END:VEVENT
BEGIN:VEVENT
DTSTART;TZID=Europe/London:20220428T193000
DTEND;TZID=Europe/London:20220428T210000
DTSTAMP:20260425T115936
CREATED:20220414T100535Z
LAST-MODIFIED:20220414T100647Z
UID:26738-1651174200-1651179600@www.medact.org
SUMMARY:Medact Scotland Group Meeting
DESCRIPTION:What’s going on in Scotland? Please come to our online meeting to find out and to share ideas! New members are very welcome. We’ll have some exciting updates from across Medact: \n\nReem Abu-Hayyeh\, Campaign and Policy Lead on peace and security\, will give an overview of the role and mission of Medact\,\nLong-time member Michael Orgel will talk about the work of the Nuclear Weapons Group and Don’t Bank on the Bomb\,\nClaire Goughan will discuss the group’s climate work and upcoming actions\, and \nSian Ashby will share info about the Glasgow’s Greener Practice group.\n\nThere will be time to talk about the in-person meeting we’re planning in the autumn to connect with other Scottish health activists and health organisations and encourage them to help progress our interconnected work. We’ll hear from Carey Lunan\, GP and previously chair of the College of GPs in Scotland. \nIf you’re involved with another health organisation that you think should be invited in the autumn\, please let us know! \n[Registration has now closed]
URL:https://www.medact.org/event/medact-scotland-group-meeting-3/
LOCATION:Zoom
CATEGORIES:Group,Meetings,Online
ATTACH;FMTTYPE=image/png:https://www.medact.org/app/uploads/2022/04/Medact-Scotland-Group.png
END:VEVENT
END:VCALENDAR