BEGIN:VCALENDAR
VERSION:2.0
PRODID:-//Medact - ECPv6.6.3//NONSGML v1.0//EN
CALSCALE:GREGORIAN
METHOD:PUBLISH
X-ORIGINAL-URL:https://www.medact.org
X-WR-CALDESC:Events for Medact
REFRESH-INTERVAL;VALUE=DURATION:PT1H
X-Robots-Tag:noindex
X-PUBLISHED-TTL:PT1H
BEGIN:VTIMEZONE
TZID:Europe/London
BEGIN:DAYLIGHT
TZOFFSETFROM:+0000
TZOFFSETTO:+0100
TZNAME:BST
DTSTART:20220327T010000
END:DAYLIGHT
BEGIN:STANDARD
TZOFFSETFROM:+0100
TZOFFSETTO:+0000
TZNAME:GMT
DTSTART:20221030T010000
END:STANDARD
END:VTIMEZONE
BEGIN:VEVENT
DTSTART;TZID=Europe/London:20220216T180000
DTEND;TZID=Europe/London:20220216T193000
DTSTAMP:20260420T113729
CREATED:20220201T161328Z
LAST-MODIFIED:20220201T161547Z
UID:25693-1645034400-1645039800@www.medact.org
SUMMARY:Health for a Green New Deal February Big Meeting
DESCRIPTION:In the few months since the COP26 climate talks\, the UK government has moved to greenlight new oil and gas fields. However\, in December communities and campaigners secured a massive victory after Shell pulled out of the controversial Cambo oil field off the coast of the Shetlands\, effectively postponing development of the field.  \nWe now face a massive challenge over the coming months and years to not only make sure that the Cambo oil field is permanently scrapped\, but to ensure that each of the roughly ten proposed oil and gas projects set for the UK never see the light of day.  \nJoin us on Wednesday 16th February at 6pm for the first Health for a Green New Deal Big Meeting of 2022 to hear updates from local organisers and discuss how the health community can mobilise against new fossil fuels.  \n[Registration has now closed]
URL:https://www.medact.org/event/health-for-a-green-new-deal-february-big-meeting/
LOCATION:Zoom
CATEGORIES:Group,Meetings,Online
ATTACH;FMTTYPE=image/png:https://www.medact.org/app/uploads/2022/02/H4GND-Feb-Big-Meeting-.png
END:VEVENT
END:VCALENDAR