BEGIN:VCALENDAR
VERSION:2.0
PRODID:-//Medact - ECPv6.6.3//NONSGML v1.0//EN
CALSCALE:GREGORIAN
METHOD:PUBLISH
X-ORIGINAL-URL:https://www.medact.org
X-WR-CALDESC:Events for Medact
REFRESH-INTERVAL;VALUE=DURATION:PT1H
X-Robots-Tag:noindex
X-PUBLISHED-TTL:PT1H
BEGIN:VTIMEZONE
TZID:Europe/London
BEGIN:DAYLIGHT
TZOFFSETFROM:+0000
TZOFFSETTO:+0100
TZNAME:BST
DTSTART:20230326T010000
END:DAYLIGHT
BEGIN:STANDARD
TZOFFSETFROM:+0100
TZOFFSETTO:+0000
TZNAME:GMT
DTSTART:20231029T010000
END:STANDARD
TZID:Europe/Berlin
BEGIN:DAYLIGHT
TZOFFSETFROM:+0100
TZOFFSETTO:+0200
TZNAME:CEST
DTSTART:20230326T010000
END:DAYLIGHT
BEGIN:STANDARD
TZOFFSETFROM:+0200
TZOFFSETTO:+0100
TZNAME:CET
DTSTART:20231029T010000
END:STANDARD
END:VTIMEZONE
BEGIN:VEVENT
DTSTART;TZID=Europe/London:20230110T180000
DTEND;TZID=Europe/London:20230110T193000
DTSTAMP:20260424T212735
CREATED:20221104T164354Z
LAST-MODIFIED:20221104T164831Z
UID:28171-1673373600-1673379000@www.medact.org
SUMMARY:Nuclear Weapons Group Meeting
DESCRIPTION:Medact’s Nuclear Weapons Group represents the longest standing aspect of Medact’s work to address war\, armed violence and conflict as global threats to health. \nWe will meet to provide an update on our ongoing work\, and discuss the current global political landscape as related to nuclear weapons and disarmament. Register below to receive the meeting link.  \nQuestions? Email Sarah Lasoye: sarahlasoye@medact.org \n[Registration has now closed]
URL:https://www.medact.org/event/nwg2/
LOCATION:Zoom
CATEGORIES:Group,Meetings,Online
ATTACH;FMTTYPE=image/png:https://stat.medact.org/wp-uploads/2022/10/Nuclear-Weapons-Group.png
END:VEVENT
BEGIN:VEVENT
DTSTART;TZID=Europe/London:20230116T190000
DTEND;TZID=Europe/London:20230116T203000
DTSTAMP:20260424T212735
CREATED:20230106T131623Z
LAST-MODIFIED:20230106T131833Z
UID:28118-1673895600-1673901000@www.medact.org
SUMMARY:Economic Justice & Health group meeting
DESCRIPTION:The Economic Justice & Health group meet regularly to discuss current and future campaigns\, plan events\, work on strategy and share knowledge. The group is open to all and welcomes new members. Questions? Email our EJ&H campaign lead Jordi. \n[Registration has now closed]
URL:https://www.medact.org/event/ejh-meeting-18/
LOCATION:Zoom
CATEGORIES:Group,Meetings,Online
ATTACH;FMTTYPE=image/png:https://www.medact.org/app/uploads/2021/11/EJH-header-v2.png
END:VEVENT
BEGIN:VEVENT
DTSTART;TZID=Europe/London:20230117T180000
DTEND;TZID=Europe/London:20230117T193000
DTSTAMP:20260424T212735
CREATED:20230106T133005Z
LAST-MODIFIED:20230106T133049Z
UID:28404-1673978400-1673983800@www.medact.org
SUMMARY:Securitisation of Health group meeting
DESCRIPTION:What is the securitisation of health? \nA number of policing and counter-extremism measures are embedded by the government into UK health services\, which at times requiring health workers to work closely with the police and other security agencies. \nThese measures risk undermining therapeutic relationships\, confidentiality and trust in practitioners – as well as drawing health services and workers into becoming an arm of policing and counter-terror agencies. \nThrough research and campaigns\, Medact aims to shift understandings of ‘security’\, from typically “hard” measures (border enforcement\, a punitive criminal justice system\, counter-terror measures) and advocate for collective and human security\, health and wellbeing. Read more about our work on Securitisation. \nAbout the group\nThe Securitisation of Health group is for health workers interested in working on these issues through campaigning\, lobbying and research. New members are welcome! If you have any questions or concerns about attending\, please email our Campaign Lead Sarah Lasoye at sarahlasoye@medact.org  \n[Registration has now closed]
URL:https://www.medact.org/event/securitisation-meeting3/
LOCATION:Zoom
CATEGORIES:Group,Meetings,Online
ATTACH;FMTTYPE=image/png:https://www.medact.org/app/uploads/2021/03/Securitisation-Of-Health-Group-Twitter.png
END:VEVENT
BEGIN:VEVENT
DTSTART;VALUE=DATE:20230120
DTEND;VALUE=DATE:20230123
DTSTAMP:20260424T212735
CREATED:20230105T110150Z
LAST-MODIFIED:20230106T152118Z
UID:28391-1674172800-1674431999@www.medact.org
SUMMARY:IPPNW European Regional Meeting
DESCRIPTION:The International Physicians for the Prevention of Nuclear War are a non-partisan global federation of medical organisations dedicated to research\, education\, and advocacy relevant to the prevention of nuclear war. Medact is the UK’s affiliate to IPPNW. \nThe next European Regional Meeting is taking place from Friday Jan 20th to Sunday Jan 22nd at St. Ansgar-Haus in Hamburg\, Germany. Many sessions will also be held online for remote joiners. \nAt the event\, IPPNW members will exchange ideas on how to prevent a nuclear war in Europe and to advance the nuclear ban in Europe\, discuss how we can deal with the situation at the Zaporizhzhia nuclear power plant\, and offer workshops on skills sharing on media work\, social media and political advocacy with experienced campaigners. At this European regional meeting\, there will be also be an election for IPPNW’s European Vice-Presidency again. \nFurther information and event programme \nDownload the event programme as a PDF \nRegister to attend
URL:https://www.medact.org/event/ippnw-european-regional-meeting/
LOCATION:St. Ansgar-Haus\, Schmilinskystr. 78\, Hamburg\, 20099\, Germany
CATEGORIES:External,Hybrid,Online
ATTACH;FMTTYPE=image/png:https://stat.medact.org/wp-uploads/2023/01/Screenshot-2023-01-06-at-15.19.35.png
END:VEVENT
BEGIN:VEVENT
DTSTART;TZID=Europe/London:20230130T190000
DTEND;TZID=Europe/London:20230130T203000
DTSTAMP:20260424T212735
CREATED:20230106T132233Z
LAST-MODIFIED:20230106T132323Z
UID:28177-1675105200-1675110600@www.medact.org
SUMMARY:Economic Justice & Health group meeting
DESCRIPTION:The Economic Justice & Health group meet regularly to discuss current and future campaigns\, plan events\, work on strategy and share knowledge. The group is open to all and welcomes new members. Questions? Email our EJ&H campaign lead Jordi. \n[Registration has now closed]
URL:https://www.medact.org/event/ejh-meeting-19/
LOCATION:Zoom
CATEGORIES:Group,Meetings,Online
ATTACH;FMTTYPE=image/png:https://www.medact.org/app/uploads/2021/11/EJH-header-v2.png
END:VEVENT
BEGIN:VEVENT
DTSTART;TZID=Europe/London:20230131T180000
DTEND;TZID=Europe/London:20230131T193000
DTSTAMP:20260424T212735
CREATED:20221104T164359Z
LAST-MODIFIED:20221104T165217Z
UID:28178-1675188000-1675193400@www.medact.org
SUMMARY:Nuclear Weapons Group Meeting
DESCRIPTION:Medact’s Nuclear Weapons Group represents the longest standing aspect of Medact’s work to address war\, armed violence and conflict as global threats to health. \nWe will meet to provide an update on our ongoing work\, and discuss the current global political landscape as related to nuclear weapons and disarmament. Register below to receive the meeting link.  \nQuestions? Email Sarah Lasoye: sarahlasoye@medact.org \n[Registration has now closed]
URL:https://www.medact.org/event/nwg3/
LOCATION:Zoom
CATEGORIES:Group,Meetings,Online
ATTACH;FMTTYPE=image/png:https://stat.medact.org/wp-uploads/2022/10/Nuclear-Weapons-Group.png
END:VEVENT
END:VCALENDAR