BEGIN:VCALENDAR
VERSION:2.0
PRODID:-//Medact - ECPv6.6.3//NONSGML v1.0//EN
CALSCALE:GREGORIAN
METHOD:PUBLISH
X-WR-CALNAME:Medact
X-ORIGINAL-URL:https://www.medact.org
X-WR-CALDESC:Events for Medact
REFRESH-INTERVAL;VALUE=DURATION:PT1H
X-Robots-Tag:noindex
X-PUBLISHED-TTL:PT1H
BEGIN:VTIMEZONE
TZID:Europe/London
BEGIN:DAYLIGHT
TZOFFSETFROM:+0000
TZOFFSETTO:+0100
TZNAME:BST
DTSTART:20210328T010000
END:DAYLIGHT
BEGIN:STANDARD
TZOFFSETFROM:+0100
TZOFFSETTO:+0000
TZNAME:GMT
DTSTART:20211031T010000
END:STANDARD
END:VTIMEZONE
BEGIN:VEVENT
DTSTART;VALUE=DATE:20211202
DTEND;VALUE=DATE:20211204
DTSTAMP:20260420T171721
CREATED:20211122T161157Z
LAST-MODIFIED:20211122T161157Z
UID:25294-1638403200-1638575999@www.medact.org
SUMMARY:World Nuclear Survivors Forum 2021
DESCRIPTION:The World Nuclear Survivors Forum 2021 will bring together nuclear survivors and impacted communities around the world to virtually meet\, learn about each other’s situations and needs\, and share various actions and initiatives. Further\, it will allow people around the world to continue to listen and learn from nuclear survivors\, so as to take actions to ensure their rights and dignity and to realize a world free of nuclear weapons. The forum will be streamed online and can be watched anywhere in the world. \nNo prior registration is required but you can register to receive a reminder. \nThe forum is organized by Peace Boat in partnership with the International Campaign to Abolish Nuclear Weapons (ICAN).
URL:https://www.medact.org/event/world-nuclear-survivors-forum-2021/
CATEGORIES:Conferences,External,Online
ATTACH;FMTTYPE=image/jpeg:https://www.medact.org/app/uploads/2021/11/FEnm9lyVUAMVcyl.jpeg
END:VEVENT
BEGIN:VEVENT
DTSTART;TZID=Europe/London:20211202T190000
DTEND;TZID=Europe/London:20211202T203000
DTSTAMP:20260420T171721
CREATED:20211004T115030Z
LAST-MODIFIED:20211004T115030Z
UID:24276-1638471600-1638477000@www.medact.org
SUMMARY:Economic Justice & Health Group Meeting
DESCRIPTION:The Economic Justice & Health Group meets fortnightly on Thursdays at 7pm. \nIf you’re interested in getting involved\, please get in touch with movement organiser\, Ben Eder –  beneder@medact.org
URL:https://www.medact.org/event/economic-justice-health-group-meeting-8/
LOCATION:Zoom
CATEGORIES:Group,Meetings,Online
ATTACH;FMTTYPE=image/png:https://www.medact.org/app/uploads/2021/09/EJH-headertwitter.png
END:VEVENT
BEGIN:VEVENT
DTSTART;TZID=Europe/London:20211209T160000
DTEND;TZID=Europe/London:20211209T173000
DTSTAMP:20260420T171721
CREATED:20211207T110751Z
LAST-MODIFIED:20211207T120444Z
UID:25378-1639065600-1639071000@www.medact.org
SUMMARY:Nuclear Weapons Group Meeting
DESCRIPTION:The Nuclear Weapons Group will be meeting for the final time this year\, reflecting on ongoing activities and looking ahead to next year. \nFor more info\, contact sarahlasoye@medact.org.
URL:https://www.medact.org/event/nuclear-weapons-group-meeting-3/
LOCATION:Zoom
CATEGORIES:Group,Meetings,Online
ATTACH;FMTTYPE=image/png:https://www.medact.org/app/uploads/2021/12/NWG-Graphic.png
END:VEVENT
BEGIN:VEVENT
DTSTART;TZID=Europe/London:20211214T180000
DTEND;TZID=Europe/London:20211214T193000
DTSTAMP:20260420T171721
CREATED:20211201T230731Z
LAST-MODIFIED:20211201T230731Z
UID:25360-1639504800-1639510200@www.medact.org
SUMMARY:'Kill The Bill' Research Group Reflection Meeting
DESCRIPTION:A reflection and evaluation meeting for contributors to our recent Medact Research Network briefing on the PCSC Bill. \nYou can download the briefing and find the recording of the launch event on the briefing page: The Public Health Case Against the Policing Bill
URL:https://www.medact.org/event/kill-the-bill-research-group-reflection-meeting/
LOCATION:Zoom
CATEGORIES:Meetings,Online
END:VEVENT
END:VCALENDAR