BEGIN:VCALENDAR
VERSION:2.0
PRODID:-//Medact - ECPv6.6.3//NONSGML v1.0//EN
CALSCALE:GREGORIAN
METHOD:PUBLISH
X-ORIGINAL-URL:https://www.medact.org
X-WR-CALDESC:Events for Medact
REFRESH-INTERVAL;VALUE=DURATION:PT1H
X-Robots-Tag:noindex
X-PUBLISHED-TTL:PT1H
BEGIN:VTIMEZONE
TZID:Europe/London
BEGIN:DAYLIGHT
TZOFFSETFROM:+0000
TZOFFSETTO:+0100
TZNAME:BST
DTSTART:20240331T010000
END:DAYLIGHT
BEGIN:STANDARD
TZOFFSETFROM:+0100
TZOFFSETTO:+0000
TZNAME:GMT
DTSTART:20241027T010000
END:STANDARD
END:VTIMEZONE
BEGIN:VEVENT
DTSTART;TZID=Europe/London:20240618T183000
DTEND;TZID=Europe/London:20240618T200000
DTSTAMP:20260420T223315
CREATED:20240513T153606Z
LAST-MODIFIED:20240520T181553Z
UID:33331-1718735400-1718740800@www.medact.org
SUMMARY:Medact Movement Assembly
DESCRIPTION:Movement Assemblies (formerly “Group Check-in”) are a space for people active in Medact local or issue groups to connect\, to share collective learning from our organising—the challenges and successes and how we can support each other to win in our struggle for health justice.  \n\n\n\nThis Assembly will take place ONLINE on Zoom. The first part of the assembly will focus on sharing updates and learnings from across the Medact network. We will hear national campaign updates from: \n\n\n\n\nPatients Not Passports\n\n\n\nPeace and Security\n\n\n\nClimate and Health\n\n\n\nEconomic Justice\n\n\n\n\nWe will then share updates from across local Medact groups—all are welcome! Each group being represented will spend two minutes sharing a few highlights and any challenges you’ve had over the last few months\, and any plans you have coming up. \n\n\n\nIn the second half of the assembly\, we will have a skill-share on organising. We’ll be exploring an example together; how we can apply these learnings in our contexts; and the skills\, knowledge and resources we need to put them into practice.  \n\n\n\nIf you have any questions or would like to chat through anything\, do get in touch with Ben Eder:  beneder@medact.org
URL:https://www.medact.org/event/movement-assembly/
CATEGORIES:Meetings,Online
ATTACH;FMTTYPE=image/png:https://stat.medact.org/wp-uploads/2024/05/Movement-Assembly-banner.png
END:VEVENT
END:VCALENDAR