BEGIN:VCALENDAR
VERSION:2.0
PRODID:-//Medact - ECPv6.6.3//NONSGML v1.0//EN
CALSCALE:GREGORIAN
METHOD:PUBLISH
X-ORIGINAL-URL:https://www.medact.org
X-WR-CALDESC:Events for Medact
REFRESH-INTERVAL;VALUE=DURATION:PT1H
X-Robots-Tag:noindex
X-PUBLISHED-TTL:PT1H
BEGIN:VTIMEZONE
TZID:Europe/London
BEGIN:DAYLIGHT
TZOFFSETFROM:+0000
TZOFFSETTO:+0100
TZNAME:BST
DTSTART:20240331T010000
END:DAYLIGHT
BEGIN:STANDARD
TZOFFSETFROM:+0100
TZOFFSETTO:+0000
TZNAME:GMT
DTSTART:20241027T010000
END:STANDARD
END:VTIMEZONE
BEGIN:VEVENT
DTSTART;TZID=Europe/London:20240304T180000
DTEND;TZID=Europe/London:20240304T193000
DTSTAMP:20260421T112700
CREATED:20240206T125931Z
LAST-MODIFIED:20240304T111601Z
UID:32365-1709575200-1709580600@www.medact.org
SUMMARY:Nuclear Weapons Group: New Joiners Meeting
DESCRIPTION:Are you concerned about the catastrophic health and environmental consequences of a nuclear war? \n\n\n\nDo you want to take a stand with longstanding members of the medical peace movement who are campaigning for nuclear disarmament\, and the abolition of nuclear weapons altogether? \n\n\n\nThis meeting is the best way to get up to speed with the work of the Nuclear Weapons Group! We’ll provide a space for anyone interested in getting involved in the group’s activities to meet others\, learn more about the state of global nuclear weapons\, and explore the different ways you can get involved in our campaigns.  \n\n\n\nIf you can’t make this\, don’t worry! Our Peace and Security campaigner Sarah can make time for a quick phone call—get in touch by email at sarahlasoye@medact.org
URL:https://www.medact.org/event/nwg-newjoiners/
CATEGORIES:Group,Meetings,Online
ATTACH;FMTTYPE=image/png:https://stat.medact.org/wp-uploads/2024/02/NWG-New-Joiners-meeting.png
END:VEVENT
END:VCALENDAR