BEGIN:VCALENDAR
VERSION:2.0
PRODID:-//Medact - ECPv6.6.3//NONSGML v1.0//EN
CALSCALE:GREGORIAN
METHOD:PUBLISH
X-WR-CALNAME:Medact
X-ORIGINAL-URL:https://www.medact.org
X-WR-CALDESC:Events for Medact
REFRESH-INTERVAL;VALUE=DURATION:PT1H
X-Robots-Tag:noindex
X-PUBLISHED-TTL:PT1H
BEGIN:VTIMEZONE
TZID:Europe/London
BEGIN:DAYLIGHT
TZOFFSETFROM:+0000
TZOFFSETTO:+0100
TZNAME:BST
DTSTART:20230326T010000
END:DAYLIGHT
BEGIN:STANDARD
TZOFFSETFROM:+0100
TZOFFSETTO:+0000
TZNAME:GMT
DTSTART:20231029T010000
END:STANDARD
END:VTIMEZONE
BEGIN:VEVENT
DTSTART;TZID=Europe/London:20230417T190000
DTEND;TZID=Europe/London:20230417T203000
DTSTAMP:20260425T120805
CREATED:20230213T170503Z
LAST-MODIFIED:20230301T114028Z
UID:28654-1681758000-1681763400@www.medact.org
SUMMARY:Criminalising Distress FOI team meeting
DESCRIPTION:The FOI (“freedom of information”) team meet as part of the Medact Research Network’s current project ‘Criminalising Distress’. \n\n\n\nThe 18-month project explores the evolution and impacts of\, accountability for\, and alternatives to Serenity Integrated Mentoring (SIM)\, a model of mental health care involving police officers into non-emergency therapeutic interventions. \n\n\n\nFor more information about the project email Research and Policy Manager Hil Aked at hilaked@medact.org
URL:https://www.medact.org/event/criminalising-distress-foi-team-meeting-2/
CATEGORIES:Group,Meetings,Online
END:VEVENT
END:VCALENDAR