BEGIN:VCALENDAR
VERSION:2.0
PRODID:-//Medact - ECPv6.6.3//NONSGML v1.0//EN
CALSCALE:GREGORIAN
METHOD:PUBLISH
X-ORIGINAL-URL:https://www.medact.org
X-WR-CALDESC:Events for Medact
REFRESH-INTERVAL;VALUE=DURATION:PT1H
X-Robots-Tag:noindex
X-PUBLISHED-TTL:PT1H
BEGIN:VTIMEZONE
TZID:Europe/London
BEGIN:DAYLIGHT
TZOFFSETFROM:+0000
TZOFFSETTO:+0100
TZNAME:BST
DTSTART:20230326T010000
END:DAYLIGHT
BEGIN:STANDARD
TZOFFSETFROM:+0100
TZOFFSETTO:+0000
TZNAME:GMT
DTSTART:20231029T010000
END:STANDARD
END:VTIMEZONE
BEGIN:VEVENT
DTSTART;TZID=Europe/London:20230404T180000
DTEND;TZID=Europe/London:20230404T193000
DTSTAMP:20260421T024618
CREATED:20230322T113201Z
LAST-MODIFIED:20230327T165254Z
UID:29568-1680631200-1680636600@www.medact.org
SUMMARY:Nuclear Weapons Group meeting
DESCRIPTION:Medact’s Nuclear Weapons Group represents the longest standing aspect of Medact’s work to address war\, armed violence and conflict as global threats to health. We meet to provide updates on our ongoing work\, plan future efforts and discuss the current global political landscape as related to nuclear weapons and disarmament. \n\n\n\nIf you have any questions about the group’s work or about attending\, please email Reem at reemabuhayyeh@medact.org \n\n\n[Registration has now closed]
URL:https://www.medact.org/event/nwg-april4/
CATEGORIES:Group,Meetings,Online
ATTACH;FMTTYPE=image/png:https://stat.medact.org/wp-uploads/2022/10/Nuclear-Weapons-Group.png
END:VEVENT
END:VCALENDAR