BEGIN:VCALENDAR
VERSION:2.0
PRODID:-//Medact - ECPv6.6.3//NONSGML v1.0//EN
CALSCALE:GREGORIAN
METHOD:PUBLISH
X-WR-CALNAME:Medact
X-ORIGINAL-URL:https://www.medact.org
X-WR-CALDESC:Events for Medact
REFRESH-INTERVAL;VALUE=DURATION:PT1H
X-Robots-Tag:noindex
X-PUBLISHED-TTL:PT1H
BEGIN:VTIMEZONE
TZID:Europe/London
BEGIN:DAYLIGHT
TZOFFSETFROM:+0000
TZOFFSETTO:+0100
TZNAME:BST
DTSTART:20240331T010000
END:DAYLIGHT
BEGIN:STANDARD
TZOFFSETFROM:+0100
TZOFFSETTO:+0000
TZNAME:GMT
DTSTART:20241027T010000
END:STANDARD
END:VTIMEZONE
BEGIN:VEVENT
DTSTART;TZID=Europe/London:20241002T190000
DTEND;TZID=Europe/London:20241002T200000
DTSTAMP:20260425T190233
CREATED:20240920T085705Z
LAST-MODIFIED:20240920T090117Z
UID:34294-1727895600-1727899200@www.medact.org
SUMMARY:Economic Justice National Organising Group Meeting
DESCRIPTION:The Medact Economic Justice & Health group meets regularly to discuss current and future campaigns\, plan events\, work on strategy and share knowledge. The group is open to all and welcomes new members. \n\n\n\nThe main focus of this meeting will be to discuss the strategy of our housing and health lobbying and advocacy campaign focusing on Royal Colleges. We will also provide updates on our work as part of the Homes for Us alliance. \n\n\n\nIf you have any questions please contact jordilopezbotey@medact.org!
URL:https://www.medact.org/event/economic-justice-national-organising-group-meeting-oct-2024/
LOCATION:Zoom
CATEGORIES:Group,Meetings,Online
ATTACH;FMTTYPE=image/png:https://stat.medact.org/wp-uploads/2024/09/EJH-headertwitter.png
END:VEVENT
BEGIN:VEVENT
DTSTART;TZID=Europe/London:20241003T193000
DTEND;TZID=Europe/London:20241003T203000
DTSTAMP:20260425T190233
CREATED:20240821T105649Z
LAST-MODIFIED:20240821T105713Z
UID:33781-1727983800-1727987400@www.medact.org
SUMMARY:Medact Leeds group meeting: October
DESCRIPTION:The Leeds group come together monthly for meetings on the 6th of the month. Meetings are online mostly and sometimes in person! Medact Leeds are organising locally for climate and health justice as part of the Health for a Green New Deal network\, and also taking action to end the hostile environment\, campaigning for Patients Not Passports. All are welcome. Please sign up to the mailing list to join the group.
URL:https://www.medact.org/event/medact-leeds-october/
CATEGORIES:Group,Meetings
ATTACH;FMTTYPE=image/png:https://www.medact.org/app/uploads/2021/03/2-1.png
END:VEVENT
BEGIN:VEVENT
DTSTART;TZID=Europe/London:20241007T180000
DTEND;TZID=Europe/London:20241007T190000
DTSTAMP:20260425T190233
CREATED:20240821T104021Z
LAST-MODIFIED:20240821T104024Z
UID:33787-1728324000-1728327600@www.medact.org
SUMMARY:Medact Bristol group meeting: October
DESCRIPTION:Medact Bristol is interested and engaged in local\, national and international issues that affect public health. Since its creation\, Medact Bristol has focused its efforts on campaigns on climate\, environment and sustainability\, divestment\, and migrant access to healthcare. The group’s current focus is supporting  Reclaim our Buses\, a campaign in Bristol to bring buses back into public control. New members are welcome.
URL:https://www.medact.org/event/medact-bristol-october/
CATEGORIES:Group,Meetings
ATTACH;FMTTYPE=image/png:https://stat.medact.org/wp-uploads/2024/02/Medact-Bristol-Transport-Clinic-feature.png
END:VEVENT
BEGIN:VEVENT
DTSTART;TZID=Europe/London:20241008T183000
DTEND;TZID=Europe/London:20241008T193000
DTSTAMP:20260425T190233
CREATED:20240821T110121Z
LAST-MODIFIED:20240821T110123Z
UID:33808-1728412200-1728415800@www.medact.org
SUMMARY:Medact Glasgow group meeting: October
DESCRIPTION:Medact Glasgow is a collective of healthcare workers\, students and people from other related social disciplines. We organise around\, learn about and share information on campaigns related to health justice. \n\n\n\nOur current focus is on fighting fuel poverty. We are working alongside Fuel Poverty Action\, who organise for affordable and sustainable energy and against the inadequate living conditions which are making people sick. \n\n\n\nOur main meeting is in person (or you can join on Zoom) on the second Tuesday of each month – all are welcome! Please get in touch with us on glasgow@medact.org if you want to join our meetings or find out more\, or subscribe to the mailing list:
URL:https://www.medact.org/event/medact-glasgow-october/
CATEGORIES:Group,Meetings
ATTACH;FMTTYPE=image/png:https://stat.medact.org/wp-uploads/2024/04/Medact-Glasgow.png
END:VEVENT
BEGIN:VEVENT
DTSTART;TZID=Europe/London:20241009T200000
DTEND;TZID=Europe/London:20241009T210000
DTSTAMP:20260425T190233
CREATED:20240821T104329Z
LAST-MODIFIED:20240821T104331Z
UID:33819-1728504000-1728507600@www.medact.org
SUMMARY:Medact North East group meeting: October
DESCRIPTION:Medact North East are a collective of health workers and students based across the North East\, from Northumberland to Newcastle to Middlesbrough! \nCurrently we are working on a climate justice campaign\, supporting a grassroots group to win the fight against a large waste incinerator on Teesside\, which would pollute the air of the local community as well as accelerating the climate crisis.  \nWe are also exploring campaigns around migrant health justice issues through our new ‘Migrant Health’ group.  This includes supporting No to Hassockfield which is fighting to shut down a women’s detention centre in County Durham.     \nThe group meets monthly. Each meeting is facilitated by a different person and they welcome new members! The time is used to discuss current campaigns and anything else relevant. For more information or to join a meeting in-person\, get in touch at northeast@medact.org. or subscribe below.
URL:https://www.medact.org/event/medact-north-east-october/
CATEGORIES:Group,Meetings
ATTACH;FMTTYPE=image/png:https://stat.medact.org/wp-uploads/2024/05/North-East-cop26-protest.png
END:VEVENT
BEGIN:VEVENT
DTSTART;TZID=Europe/London:20241016T180000
DTEND;TZID=Europe/London:20241016T193000
DTSTAMP:20260425T190233
CREATED:20240821T110304Z
LAST-MODIFIED:20240821T110633Z
UID:33844-1729101600-1729107000@www.medact.org
SUMMARY:Securitisation of Health group meeting: October
DESCRIPTION:What is the securitisation of health?\n\n\n\nA number of policing and counter-extremism measures are embedded by the government into UK health services\, which at times require health workers to work closely with the police and other security agencies. \n\n\n\nThese measures risk undermining therapeutic relationships\, confidentiality and trust in practitioners – as well as drawing health services and workers into becoming an arm of policing and counter-terror agencies. \n\n\n\nThrough research and campaigns\, Medact aims to shift understandings of ‘security’\, from typically “hard” measures (border enforcement\, a punitive criminal justice system\, counter-terror measures) and advocate for collective and human security\, health and wellbeing. Read more about our work on Securitisation here. \n\n\n\nAbout the group\n\n\n\nThe Securitisation of Health group is for health workers interested in working on these issues through campaigning\, lobbying and research. New members are welcome!  \n\n\n\nIf you have any questions or concerns about attending\, please email our Campaign Lead Sarah Lasoye at sarahlasoye@medact.org. \n\n\n\nThis event will be held online on Zoom.
URL:https://www.medact.org/event/securitisation-meeting-october/
CATEGORIES:Group,Meetings,Online
ATTACH;FMTTYPE=image/png:https://stat.medact.org/wp-uploads/2024/01/Securitisation-Of-Health-Group-feature.png
END:VEVENT
BEGIN:VEVENT
DTSTART;TZID=Europe/London:20241017T180000
DTEND;TZID=Europe/London:20241017T193000
DTSTAMP:20260425T190233
CREATED:20240821T111206Z
LAST-MODIFIED:20241001T133729Z
UID:33851-1729188000-1729193400@www.medact.org
SUMMARY:Nuclear Weapons Group meeting: October
DESCRIPTION:Medact’s Nuclear Weapons Group represents the longest standing aspect of Medact’s work towards nuclear abolition\, and to address war\, armed violence and conflict as global threats to health. \n\n\n\nWe will meet to provide an update on our ongoing work\, and discuss the current global political landscape as related to nuclear weapons and disarmament. Register below to receive the meeting link! \n\n\n\nFor more info or with questions\, email Sarah: sarahlasoye@medact.org
URL:https://www.medact.org/event/nwg-october/
CATEGORIES:Group,Meetings,Online
ATTACH;FMTTYPE=image/png:https://stat.medact.org/wp-uploads/2022/10/Nuclear-Weapons-Group.png
END:VEVENT
BEGIN:VEVENT
DTSTART;TZID=Europe/London:20241017T184500
DTEND;TZID=Europe/London:20241017T203000
DTSTAMP:20260425T190233
CREATED:20241001T132141Z
LAST-MODIFIED:20241010T115156Z
UID:34375-1729190700-1729197000@www.medact.org
SUMMARY:London Housing & Health meeting: October
DESCRIPTION:Medact’s Housing & Health Group is organising to improve policies for better access to secure and sustainable housing. \n\n\n\nThis includes working alongside local groups to support local campaigns\, as well as demanding policy change on a national level for better support for social housing\, community-owned housing stock and protections for renters. \n\n\n\nIn this meeting\, you will be hearing from the members involved in our work\, get updates on our local organising\, and help us develop the next steps and identify potential campaigns in other boroughs. \n\n\n\nYou don’t have to be a regular member of the Economic Justice &Health group or a health worker to get involved – everyone is welcome. \n\n\n\nSign up to the Medact London email list to hear about all Housing & Health London Meetings! If you’re unable to attend meetings but keen to get involved or develop a local campaign\, you can contact Jordi:  jordilopezbotey@medact.org. \n\n\n\nRegister to attend!
URL:https://www.medact.org/event/london-housing-health-meeting4/
LOCATION:Pelican House\, 144 Cambridge Heath Road\, London\, London\, E1 5QJ\, United Kingdom
CATEGORIES:Group,Meetings
ATTACH;FMTTYPE=image/png:https://stat.medact.org/wp-uploads/2024/10/Housing_Health_2024.png
END:VEVENT
BEGIN:VEVENT
DTSTART;TZID=Europe/London:20241030T190000
DTEND;TZID=Europe/London:20241030T200000
DTSTAMP:20260425T190233
CREATED:20241009T161124Z
LAST-MODIFIED:20241009T161125Z
UID:34510-1730314800-1730318400@www.medact.org
SUMMARY:Economic Justice National Organising Group Meeting
DESCRIPTION:The Medact Economic Justice & Health group meets regularly to discuss current and future campaigns\, plan events\, work on strategy and share knowledge. The group is open to all and welcomes new members. \n\n\n\nThe main focus of this meeting will be to discuss the strategy of our housing and health lobbying and advocacy campaign focusing on Royal Colleges. We will also provide updates on our work as part of the Homes for Us alliance. \n\n\n\nIf you have any questions please contact jordilopezbotey@medact.org!
URL:https://www.medact.org/event/economic-justice-national-organising-group-meeting-oct-2024-2/
LOCATION:Zoom
CATEGORIES:Group,Meetings,Online
ATTACH;FMTTYPE=image/png:https://stat.medact.org/wp-uploads/2024/09/EJH-headertwitter.png
END:VEVENT
END:VCALENDAR