BEGIN:VCALENDAR
VERSION:2.0
PRODID:-//Medact - ECPv6.6.3//NONSGML v1.0//EN
CALSCALE:GREGORIAN
METHOD:PUBLISH
X-WR-CALNAME:Medact
X-ORIGINAL-URL:https://www.medact.org
X-WR-CALDESC:Events for Medact
REFRESH-INTERVAL;VALUE=DURATION:PT1H
X-Robots-Tag:noindex
X-PUBLISHED-TTL:PT1H
BEGIN:VTIMEZONE
TZID:Europe/London
BEGIN:DAYLIGHT
TZOFFSETFROM:+0000
TZOFFSETTO:+0100
TZNAME:BST
DTSTART:20220327T010000
END:DAYLIGHT
BEGIN:STANDARD
TZOFFSETFROM:+0100
TZOFFSETTO:+0000
TZNAME:GMT
DTSTART:20221030T010000
END:STANDARD
END:VTIMEZONE
BEGIN:VEVENT
DTSTART;TZID=Europe/London:20221205T190000
DTEND;TZID=Europe/London:20221205T203000
DTSTAMP:20260420T140702
CREATED:20221025T145549Z
LAST-MODIFIED:20221025T145632Z
UID:27935-1670266800-1670272200@www.medact.org
SUMMARY:Economic Justice & Health group meeting
DESCRIPTION:The Economic Justice & Health group meet regularly on Zoom to discuss current and future campaigns\, plan events\, work on strategy and share knowledge. The group is open to all and welcomes new members. Questions? Email EJ&H campaigner Jordi. \n[Registration has now closed]
URL:https://www.medact.org/event/ejh-meeting-17/
LOCATION:Zoom
CATEGORIES:Group,Meetings,Online
ATTACH;FMTTYPE=image/png:https://www.medact.org/app/uploads/2021/11/EJH-header-v2.png
END:VEVENT
BEGIN:VEVENT
DTSTART;TZID=Europe/London:20221206T180000
DTEND;TZID=Europe/London:20221206T193000
DTSTAMP:20260420T140702
CREATED:20220914T115901Z
LAST-MODIFIED:20221205T083851Z
UID:27947-1670349600-1670355000@www.medact.org
SUMMARY:Report Launch: The Medical Consequences of Contingency Accommodation for People Seeking Asylum
DESCRIPTION:Join Medact’s Migrant Solidarity Group for the launch of their new report on the medical consequences of contingency accommodation for people seeking asylum. We will present the findings of the report\, hear from people working in contingency accommodation and host a panel discussion on what we can do as allies to those housed there. \nRead the report \nRead Profiting from Pain: Accommodating asylum seekers in England\, a blog accompanying the report. \nThis event will be hybrid and you can attend online via Zoom or in-person at the Medact offices in Hoxton\, London. \nAccessibility information: Entrance to The Grayston Centre is via 3 steps leading into the building. The event will take place in a meeting room on the ground floor. There is an accessible bathroom also on the ground floor. The room in which the event will be held is lit by bright\, overhead lighting. There will not be live BSL interpretation\, but we can turn on captions for Zoom. There is an adjacent space which can be used if you need to step out of the event for any reason. There is not parking outside the building. The closest parking spaces are available here. \nPlease indicate whether attending in-person or online when registering. \nFor those attending in person there will be a small end of year social event afterwards nearby for some food and drinks.   \n[Registration has now closed]
URL:https://www.medact.org/event/msg-report-launch/
CATEGORIES:Group,Hybrid,Meetings
ATTACH;FMTTYPE=image/png:https://stat.medact.org/wp-uploads/2022/11/MSG-Report-Contingency-Accommodation.png
END:VEVENT
BEGIN:VEVENT
DTSTART;TZID=Europe/London:20221208T183000
DTEND;TZID=Europe/London:20221208T203000
DTSTAMP:20260420T140702
CREATED:20221104T121612Z
LAST-MODIFIED:20221104T142350Z
UID:28175-1670524200-1670531400@www.medact.org
SUMMARY:Medact Birmingham: Druids Heath Campaign Meeting
DESCRIPTION:Meet other Medact members and health workers interested in our Economic Justice work\, hear the latest updates on our Druids Heath campaign\, and find out about how to get involved. \nThe Economic Justice & Health group is currently working in Birmingham to support the Druids Heath Community Forum and their Build 1ST campaign – a community campaign organising against the demolition of council housing in Druids Heath.  \n“Build 1ST Druids Heath” is a campaign to build first before eviction\, ensuring that residents get to move to a new house\, stay in the area and only move once: into a permanent\, quality home within their communities\, alongside a guaranteed right to return for those families who have already been moved. \nRecently\, health workers launched a petition to Birmingham City Council. We will discuss how else we can support the community in Druids Heath\, and how we can win the Build First demand. We’ll also explore the impact of housing on health more widely\, and the health community’s involvement in  organising around the housing crisis. \nThis is an in-person meeting at Cherry Reds Cafe (map) \n[Registration has now closed]
URL:https://www.medact.org/event/medact-birmingham-druids-heath/
LOCATION:Cherry Reds Cafe\, 88-92 John Bright St\, Birmingham\, B1 1BN
CATEGORIES:Group,Meetings,Social
ATTACH;FMTTYPE=image/png:https://stat.medact.org/wp-uploads/2022/11/Birmingham_Druids_Heath_Meeting.png
END:VEVENT
END:VCALENDAR