BEGIN:VCALENDAR
VERSION:2.0
PRODID:-//Medact - ECPv6.6.3//NONSGML v1.0//EN
CALSCALE:GREGORIAN
METHOD:PUBLISH
X-ORIGINAL-URL:https://www.medact.org
X-WR-CALDESC:Events for Medact
REFRESH-INTERVAL;VALUE=DURATION:PT1H
X-Robots-Tag:noindex
X-PUBLISHED-TTL:PT1H
BEGIN:VTIMEZONE
TZID:Europe/London
BEGIN:DAYLIGHT
TZOFFSETFROM:+0000
TZOFFSETTO:+0100
TZNAME:BST
DTSTART:20210328T010000
END:DAYLIGHT
BEGIN:STANDARD
TZOFFSETFROM:+0100
TZOFFSETTO:+0000
TZNAME:GMT
DTSTART:20211031T010000
END:STANDARD
END:VTIMEZONE
BEGIN:VEVENT
DTSTART;TZID=Europe/London:20210210T190000
DTEND;TZID=Europe/London:20210210T203000
DTSTAMP:20260424T182727
CREATED:20210204T161330Z
LAST-MODIFIED:20210208T102825Z
UID:21711-1612983600-1612989000@www.medact.org
SUMMARY:Climate & Health Research Team Meeting
DESCRIPTION:The Climate & Health Research will be meeting on Wednesday 10th February to continue work on our new briefing. \nIf you’re interested in getting involved in our research network you can sign up online or contact our Research Manager Hilary Aked ─ hilaryaked@medact.org \n 
URL:https://www.medact.org/event/climate-health-research-team-meeting-2/
CATEGORIES:Meetings,Online
ATTACH;FMTTYPE=image/jpeg:https://www.medact.org/app/uploads/2020/04/Climate-Health-Medact-twitter.jpg
END:VEVENT
END:VCALENDAR