BEGIN:VCALENDAR
VERSION:2.0
PRODID:-//Medact - ECPv6.6.3//NONSGML v1.0//EN
CALSCALE:GREGORIAN
METHOD:PUBLISH
X-WR-CALNAME:Medact
X-ORIGINAL-URL:https://www.medact.org
X-WR-CALDESC:Events for Medact
REFRESH-INTERVAL;VALUE=DURATION:PT1H
X-Robots-Tag:noindex
X-PUBLISHED-TTL:PT1H
BEGIN:VTIMEZONE
TZID:Europe/London
BEGIN:DAYLIGHT
TZOFFSETFROM:+0000
TZOFFSETTO:+0100
TZNAME:BST
DTSTART:20200329T010000
END:DAYLIGHT
BEGIN:STANDARD
TZOFFSETFROM:+0100
TZOFFSETTO:+0000
TZNAME:GMT
DTSTART:20201025T010000
END:STANDARD
END:VTIMEZONE
BEGIN:VEVENT
DTSTART;TZID=Europe/London:20201027T190000
DTEND;TZID=Europe/London:20201027T190000
DTSTAMP:20260421T065457
CREATED:20201008T172551Z
LAST-MODIFIED:20201008T172551Z
UID:20916-1603825200-1603825200@www.medact.org
SUMMARY:The International Struggle for Universal Healthcare
DESCRIPTION:Join NEF and Patients not Passports to discuss what the UK can learn from these international and historical struggles for universal healthcare to organise and win.\nA new report by the New Economics Foundation and the Patients not Passports coalition shows that the struggle for universal healthcare is not unique to the NHS in the present moment. Similar restrictions on migrants’ access to healthcare have been advanced by Governments across Europe\, and have been tried before in the NHS’s past. But these policies have been met by strong resistance and opposition\, with coordinated campaigns successfully organising against them. \nWhat can we learn from other campaigns that have successfully fought for the principle of universal healthcare for all\, regardless of immigration status? How can we organise collectively to ensure that the NHS is accessible for everyone? How can we win the fight against racism\, discrimination and the scapegoating of migrants that excludes migrants and BME communities from public services? \nSpeakers TBA \nRegister for the Zoom call
URL:https://www.medact.org/event/the-international-struggle-for-universal-healthcare/
LOCATION:Zoom
CATEGORIES:Meetings,Online,Talks & Lectures
ATTACH;FMTTYPE=image/jpeg:https://www.medact.org/app/uploads/2020/10/international_stuggle_for_universal_healthcare_27oct.jpg
END:VEVENT
END:VCALENDAR