BEGIN:VCALENDAR
VERSION:2.0
PRODID:-//Medact - ECPv6.6.3//NONSGML v1.0//EN
CALSCALE:GREGORIAN
METHOD:PUBLISH
X-WR-CALNAME:Medact
X-ORIGINAL-URL:https://www.medact.org
X-WR-CALDESC:Events for Medact
REFRESH-INTERVAL;VALUE=DURATION:PT1H
X-Robots-Tag:noindex
X-PUBLISHED-TTL:PT1H
BEGIN:VTIMEZONE
TZID:Europe/London
BEGIN:DAYLIGHT
TZOFFSETFROM:+0000
TZOFFSETTO:+0100
TZNAME:BST
DTSTART:20200329T010000
END:DAYLIGHT
BEGIN:STANDARD
TZOFFSETFROM:+0100
TZOFFSETTO:+0000
TZNAME:GMT
DTSTART:20201025T010000
END:STANDARD
END:VTIMEZONE
BEGIN:VEVENT
DTSTART;TZID=Europe/London:20201025T110000
DTEND;TZID=Europe/London:20201025T123000
DTSTAMP:20260421T065517
CREATED:20201019T155300Z
LAST-MODIFIED:20240408T102859Z
UID:20965-1603623600-1603629000@www.medact.org
SUMMARY:Medact Brighton: Open Meeting
DESCRIPTION:Join us\, members new and old\, for an open meeting on Sunday 25th October. We look forward to welcoming new members and introducing what medact is\, and why and how we are organising down here in Brighton. This meeting will be a great chance to learn more about Medact for those brand new\, and find out how to get more involved for those on the periphery. \n\n\n\nIn the meeting we will spend time exploring the issues you care about and delving into ways we could take action on it. We hope the meeting will inspire us to realise the power we have as a movement and to help build confidence in the health community to take action for health justice. \n\n\n\n[Registration has now closed]
URL:https://www.medact.org/event/medact-brighton-open-meeting/
LOCATION:Zoom
CATEGORIES:Meetings,Online
ATTACH;FMTTYPE=image/jpeg:https://www.medact.org/app/uploads/2020/10/brighton_header_image.jpg
END:VEVENT
END:VCALENDAR