BEGIN:VCALENDAR
VERSION:2.0
PRODID:-//Medact - ECPv6.6.3//NONSGML v1.0//EN
CALSCALE:GREGORIAN
METHOD:PUBLISH
X-ORIGINAL-URL:https://www.medact.org
X-WR-CALDESC:Events for Medact
REFRESH-INTERVAL;VALUE=DURATION:PT1H
X-Robots-Tag:noindex
X-PUBLISHED-TTL:PT1H
BEGIN:VTIMEZONE
TZID:Europe/London
BEGIN:DAYLIGHT
TZOFFSETFROM:+0000
TZOFFSETTO:+0100
TZNAME:BST
DTSTART:20200329T010000
END:DAYLIGHT
BEGIN:STANDARD
TZOFFSETFROM:+0100
TZOFFSETTO:+0000
TZNAME:GMT
DTSTART:20201025T010000
END:STANDARD
END:VTIMEZONE
BEGIN:VEVENT
DTSTART;TZID=Europe/London:20201017T110000
DTEND;TZID=Europe/London:20201017T150000
DTSTAMP:20260421T030728
CREATED:20201007T122436Z
LAST-MODIFIED:20201007T122515Z
UID:20912-1602932400-1602946800@www.medact.org
SUMMARY:Medact Bristol: Patients Not Passports Meeting
DESCRIPTION:Join the next Medact Bristol meeting on Saturday 17th October. \nJames Skinner and Aliya Yule from the national Patients Not Passports Campaign will support us to learn about government charging policies and to think about local campaigning and actions we can take to advocate against charging migrants for NHS care. \nThe session will run from 11am-3pm (don’t worry if you can’t join for all that time). \n[Registration has now closed]
URL:https://www.medact.org/event/medact-bristol-patients-not-passports-meeting/
LOCATION:Zoom
CATEGORIES:Meetings,Online,Workshops
ATTACH;FMTTYPE=image/jpeg:https://www.medact.org/app/uploads/2020/10/Medact-Bristol.jpg
END:VEVENT
END:VCALENDAR