BEGIN:VCALENDAR
VERSION:2.0
PRODID:-//Medact - ECPv6.6.3//NONSGML v1.0//EN
CALSCALE:GREGORIAN
METHOD:PUBLISH
X-ORIGINAL-URL:https://www.medact.org
X-WR-CALDESC:Events for Medact
REFRESH-INTERVAL;VALUE=DURATION:PT1H
X-Robots-Tag:noindex
X-PUBLISHED-TTL:PT1H
BEGIN:VTIMEZONE
TZID:Europe/London
BEGIN:DAYLIGHT
TZOFFSETFROM:+0000
TZOFFSETTO:+0100
TZNAME:BST
DTSTART:20200329T010000
END:DAYLIGHT
BEGIN:STANDARD
TZOFFSETFROM:+0100
TZOFFSETTO:+0000
TZNAME:GMT
DTSTART:20201025T010000
END:STANDARD
END:VTIMEZONE
BEGIN:VEVENT
DTSTART;TZID=Europe/London:20201006T183000
DTEND;TZID=Europe/London:20201006T200000
DTSTAMP:20260420T200903
CREATED:20200924T122624Z
LAST-MODIFIED:20200924T130236Z
UID:20884-1602009000-1602014400@www.medact.org
SUMMARY:Prevent duty in NHS ─ October planning meeting
DESCRIPTION:We are having our monthly meeting to discuss the different ways that the health community can take collective action on issues related to the Prevent counter-extremism policy in healthcare. \nThe meeting will take place online on Tuesday 6th October from 6:30-8pm. \nYou must register for this meeting below\, and details of how you can join the meeting will be sent to you. \nIf you are unable to attend but are interested in being involved in future meetings or actions\, you can sign up to our Securitisation of Health mailing list. \nOur main priority is that as much as possible\, health workers\, patients and others impacted by Prevent who may attend this event feel safe both professionally and personally participating in Medact’s activities. As such\, we ask that if you work in Prevent\, the police or the Home Office\, that you do not register to attend this event. \nFor any queries or for further discussion on this\, please e-mail reemabuhayyeh@medact.org  \n[Registration has now closed]
URL:https://www.medact.org/event/prevent-duty-in-nhs-october-planning-meeting/
CATEGORIES:Meetings,Online
ATTACH;FMTTYPE=image/jpeg:https://www.medact.org/app/uploads/2020/09/Copy-of-Search-Canva.jpg
END:VEVENT
END:VCALENDAR